BEGIN:VCALENDAR
VERSION:2.0
PRODID:-//f-range 東京表参道の銃砲店 - ECPv6.15.14//NONSGML v1.0//EN
CALSCALE:GREGORIAN
METHOD:PUBLISH
X-ORIGINAL-URL:https://f-range.jp
X-WR-CALDESC:f-range 東京表参道の銃砲店 のイベント
REFRESH-INTERVAL;VALUE=DURATION:PT1H
X-Robots-Tag:noindex
X-PUBLISHED-TTL:PT1H
BEGIN:VTIMEZONE
TZID:Asia/Tokyo
BEGIN:STANDARD
TZOFFSETFROM:+0900
TZOFFSETTO:+0900
TZNAME:JST
DTSTART:20240101T000000
END:STANDARD
END:VTIMEZONE
BEGIN:VEVENT
DTSTART;TZID=Asia/Tokyo:20250525T073000
DTEND;TZID=Asia/Tokyo:20250525T143000
DTSTAMP:20260424T222245
CREATED:20241209T001324Z
LAST-MODIFIED:20250509T024506Z
UID:10659-1748158200-1748183400@f-range.jp
SUMMARY:ガチャっ子☆エアライフル・フィールド(弾道を掴む！エアライフル実践射撃会)＠鹿留射撃場 2025/5/25 (日)
DESCRIPTION:・日時：2025年5月25日（日）7:30-14:00　(射撃開始7時半 受付6時半～) ※事前エントリー制\n・場所：鹿留射撃場 トラップ・スキート共用射面\n・種目：エアライフルによるフィールド射撃 (20m/35m/50m)\n・参加費：6\,000円(昼食付)\n　　　　　昼食の事前手配が必要なため、事前エントリーをお願いします。 \n弾道を掴む！エアライフル実践射撃会\n実猟に直結する、距離感と着弾を掴む一日\n本射撃会は、実猟距離での弾道変化を体感し、より実戦的な射撃スキルを磨くことを目的としたイベントです。\n通常の射撃場では試せない20m／35mといった近中距離での射撃を通じて、リアルな狩猟シーンを想定した練習を行います。 \n■ 第1セッション：弾道ドロップの確認（委託射撃）\nまずは20m・35m・50mの距離に設置された的紙を使用し、机上での委託射撃からスタート。\n銃を安定させた状態で射撃し、【各距離における着弾点の変化（ドロップ量）】を正確に把握していただきます。 \n■ 第2セッション：自由射撃（自由姿勢・自由委託）\n続いては、参加者ご自身による自由姿勢（立射・膝射など）、または自由委託（バイポッドやザック使用など）での射撃へ。\nこのセッションでは、より実猟を意識したキジ的を使用し、本番さながらのトレーニングが可能です。 \n■ ドロップ量の参考値（50mゼロイン時）\n距離     着弾点の変化\n20m      約 +10mm\n35m      約 -15mm\n50m      ±0mm（基準点）\n※実際の着弾点は、銃の弾速・スコープハイト・使用弾の重量などにより異なります。 \n■ 事前準備のお願い\n当日の進行をスムーズに行うため、下記の情報をあらかじめご確認・メモしてご参加ください。\n※ご用意がない場合も順番に確認いたしますが、事前に準備いただくとその分、射撃練習に時間を充てられます。\n・使用する弾の種類・重量\n・弾速（m/s）\n・スコープハイト（スコープ中心〜銃身中心までの高さ）\n※また、可能であれば弾道計算アプリ等で着弾予測の事前計算をおすすめします。 \n ■ 本イベントの特長\n射撃場では一般的に50m／100mといった固定距離しか利用できませんが、本射撃会では特別な許可のもと、実猟で最も判断が難しい近中距離での射撃訓練が可能です。 \nぜひこの機会を逃さずご参加いただき、ご自身の射撃スキルを一段階引き上げてください。 \n【その他注意事項】\nガチャっ子射撃会は【完全分煙】です。\n喫煙者と非喫煙者が気持ちよく楽しめる様、皆様のご協力をお願いいたします。\n基本的にはどなたでもご参加いただけるオープン射撃会ですが、当店の判断により参加をご遠慮いただく場合もございますので、予めご了承ください。
URL:https://f-range.jp/event/20250525/
LOCATION:鹿留射撃場\, 鹿留３１０１\, 都留市\, 山梨県\, 4020032\, 日本
CATEGORIES:練習会
ATTACH;FMTTYPE=image/jpeg:https://f-range.jp/wp-content/uploads/2021/07/tripletrap.jpg
ORGANIZER;CN="f-range":MAILTO:info@f-range.jp
END:VEVENT
END:VCALENDAR