BEGIN:VCALENDAR
VERSION:2.0
PRODID:-//f-range 東京表参道の銃砲店 - ECPv6.15.14//NONSGML v1.0//EN
CALSCALE:GREGORIAN
METHOD:PUBLISH
X-WR-CALNAME:f-range 東京表参道の銃砲店
X-ORIGINAL-URL:https://f-range.jp
X-WR-CALDESC:f-range 東京表参道の銃砲店 のイベント
REFRESH-INTERVAL;VALUE=DURATION:PT1H
X-Robots-Tag:noindex
X-PUBLISHED-TTL:PT1H
BEGIN:VTIMEZONE
TZID:Asia/Tokyo
BEGIN:STANDARD
TZOFFSETFROM:+0900
TZOFFSETTO:+0900
TZNAME:JST
DTSTART:20230101T000000
END:STANDARD
END:VTIMEZONE
BEGIN:VEVENT
DTSTART;VALUE=DATE:20241027
DTEND;VALUE=DATE:20241028
DTSTAMP:20260425T073102
CREATED:20240905T001316Z
LAST-MODIFIED:20241004T064600Z
UID:9959-1729987200-1730073599@f-range.jp
SUMMARY:ガチャっ子☆URAGAN CUP＠千葉県射撃場 2024/10/27 (日)
DESCRIPTION:・日時：2024年10月27日（日）9:00-15:00　(射撃開始9時 受付8時～) ※事前エントリー制\n・場所：千葉県射撃場\n・参加費：5\,000円(飲料付)  \nURAGAN CUPでは実猟を意識しつつ、初心者の方でも楽しめるよう、単純な点数だけではない、イベント性のある大会として企画しています。 \n競技内容は昨年を基本としておりますが、本年度は日本エアライフル協会(JARA)の公式ルールに則した形で行いたいと思います。 \n内容は、50mでのポジション３姿勢（座射、膝射、立射）と、キジ的を使った速射、さらに100mでの自由姿勢を加えた、５種目となります。 \nキジ的速射の的紙は昨年は試作品を使用しましたが、本年度はより精密なディテールが描かれた38TUNESのPheasant Skeleton Targetを使用します。\nまた制限時間も昨年より短く、1羽30秒で撃っていただきます。\n安全に十分注意の上、緊張感を持った射撃を楽しんでいただければと思います。 \nまた本年度も競技前に、狩猟に役立つ座学を開催します。 \n日本エアライフル協会(JARA)公式競技ルール準拠による、初めての射撃会となります。 \n・種目：ハンティングエアライフルによる静的50・100m 5種目\n◎50m座射/膝射/立射 各10発\n◎50m キジ的射撃　　8発\n◎100m自由姿勢(座射or膝射or立射) 10発\n合計48発 \n・ルール詳細\n◎50m自由姿勢(座射・膝射・立射)　　各10発\n制限時間合計30分、小径的を使用\n合計300点 \n◎50m キジ的速射　　最大8発\nキジ標的を使用、各キジに対して制限時間30秒×4セット\n1羽に対し最大2発射撃可能、裏面記載の骨格に当たった場合のみ得点\n姿勢は自由でバイポッドの使用も可能\n合計100点 \n◎100m自由姿勢(座射or膝射or立射) 10発\n制限時間10分、大径的を使用\n立射で撃つ場合点数1.5倍\n合計100点\n立射の場合は150点 \n種目合計500点 \n※プローンは実猟において撃ち上げになりやすいため、本大会では想定しておりません \n諸々の事前手配が必要なため、必ず事前エントリーをお願いします。 \n【その他注意事項】\nガチャっ子射撃会は【完全分煙】です。\n喫煙者と非喫煙者が気持ちよく楽しめる様、皆様のご協力をお願いいたします。\n基本的にはどなたでもご参加いただけるオープン射撃会ですが、当店の判断により参加をご遠慮いただく場合もございますので、予めご了承ください。
URL:https://f-range.jp/event/20241027/
LOCATION:千葉県射撃場\, 古敷谷２６２０\, 市原市\, 千葉県\, 290-0528\, 日本
CATEGORIES:大会
ATTACH;FMTTYPE=image/jpeg:https://f-range.jp/wp-content/uploads/2022/11/slug.jpg
ORGANIZER;CN="f-range":MAILTO:info@f-range.jp
END:VEVENT
END:VCALENDAR