BEGIN:VCALENDAR
VERSION:2.0
PRODID:-//f-range 東京表参道の銃砲店 - ECPv6.15.14//NONSGML v1.0//EN
CALSCALE:GREGORIAN
METHOD:PUBLISH
X-WR-CALNAME:f-range 東京表参道の銃砲店
X-ORIGINAL-URL:https://f-range.jp
X-WR-CALDESC:f-range 東京表参道の銃砲店 のイベント
REFRESH-INTERVAL;VALUE=DURATION:PT1H
X-Robots-Tag:noindex
X-PUBLISHED-TTL:PT1H
BEGIN:VTIMEZONE
TZID:Asia/Tokyo
BEGIN:STANDARD
TZOFFSETFROM:+0900
TZOFFSETTO:+0900
TZNAME:JST
DTSTART:20250101T000000
END:STANDARD
END:VTIMEZONE
BEGIN:VEVENT
DTSTART;TZID=Asia/Tokyo:20260110T074500
DTEND;TZID=Asia/Tokyo:20260110T150000
DTSTAMP:20260424T061134
CREATED:20251123T194810Z
LAST-MODIFIED:20251123T195012Z
UID:13116-1768031100-1768057200@f-range.jp
SUMMARY:ガチャっ子☆初撃ち(お年玉付)＠友部射撃場2026/1/10(土)
DESCRIPTION:・日時：2026年1月10日（土）7:45-15:00 (06:45受付開始)　※事前エントリー制\n・場所：友部射撃場トラップ A面\n・種目：トリプルトラップ、ダブル・トラップ、トラップ \nダブルトラップ(5m) ：20枚\nトリプルトラップ：5mフロント・5mセンター・10mフロント　各30枚×3＝90枚\nトラップ(5m) ：20枚\nトラップ(10m) ：20枚　※最初の10枚はストレート \n　　　　　※初心者🔰組は、別途専用メニューがございます\n※競技内容は変更になる可能性があります \n・参加費：11\,000円\n \n150枚撃ち\n準備の都合上事前エントリーをお願いします。 \n【参加ポイント付与】\nガチャっ子1回参加につき1ポイント付与\n有効期間(ポイントカード発行日より2年間)内に50ポイント貯まると250発装弾引換券として使えます(50ポイント達成日より1年間有効) \n【早期エントリー特典】\n開催30日前までのエントリーで、早期エントリー4ポイント＋参加1ポイント＝計5ポイント付与\n(早期エントリー1回毎に25発もらえる計算です)\n※早期エントリーでキャンセルした場合、その回と次回早期エントリー分の早期エントリーポイントが付きません。次々回より復活します。\n※当日撃つ分と同じ数以上の装弾購入が無い場合は、参加ポイントも早期エントリーポイントも付与されません \n・　参加者全員(ポイント対象者のみ)にお年玉ポイントを差し上げます\n・　全ての競技に満射賞(＋5ポイント付与)あり\n・　おかわり自由  (別途精算)\n・　射場貸銃あります(別途1日2\,000円) \nSKB 1900(自動)\nBenelli M2(自動)\nchiappa Triple-crown(元折三連銃)\nベレッタASE90他、上下二連もあり \n・　装弾 \n装弾持込可ですが、150発以上は当日お買い求めのうえ利用をお願いいたします(当日使う弾は持込装弾でOKです)。\n(当日ご購入頂けない場合は参加費＋1\,000円を頂戴し、賞典・各種ポイント付与の対象外とさせていただきます)\n國友銃砲火薬店発行の装弾引換券も使用可能です。\n装弾購入は前日までに要予約。 \n【その他注意事項】\n各種割引キャンペーンとf-range装弾券の併用はできません(國友券は可)。\nガチャっ子射撃会は【完全分煙】です。\n喫煙者と非喫煙者が気持ちよく楽しめる様、皆様のご協力をお願いいたします。\n基本的にはどなたでもご参加いただけるオープン射撃会ですが、当店の判断により参加をご遠慮いただく場合もございますので、予めご了承ください。
URL:https://f-range.jp/event/20260110/
LOCATION:友部射撃場\, 笠間市平町1416-1\, 友部射撃場\, 茨城県\, 3091722\, 日本
CATEGORIES:練習会
ATTACH;FMTTYPE=image/jpeg:https://f-range.jp/wp-content/uploads/2021/07/tripletrap.jpg
ORGANIZER;CN="f-range":MAILTO:info@f-range.jp
END:VEVENT
BEGIN:VEVENT
DTSTART;TZID=Asia/Tokyo:20260131T073000
DTEND;TZID=Asia/Tokyo:20260131T150000
DTSTAMP:20260424T061134
CREATED:20251123T200054Z
LAST-MODIFIED:20260130T093904Z
UID:13129-1769844600-1769871600@f-range.jp
SUMMARY:ガチャっ子☆TRAP＠神奈川大井射撃場 2026/1/31(土)
DESCRIPTION:  \n・日時：2026年1月31日（土）8:00-15:00 (7:20受付開始)　※事前エントリー制 \n8時撃ち始め\n・場所：神奈川大井射撃場　アメリカン射面 \n・種目：トラップ \nトラップ(5m) ：25枚\nトラップ(10m)：25枚\nトラップ(15m) ：25枚 ※ストレート\nトラップ(15m) ：25枚\n※競技内容は変更になる可能性があります\n※初心者🔰枠は別メニューでご用意しております \n・ハンデ：(当日受付時に自己申告。競技開始後の申告は無効) \nモスバーグのポンプアクションを使用すると＋１０点　※全てのラウンドで使用した場合のみ付与\nモスバーグの自動銃を使用すると＋５点　※全てのラウンドで使用した場合のみ付与\n2026年度ガチャっ子参加回数×1点\n車かバイクにf-rangeステッカー貼付＋１点\nf-rangeアイテム使用ハンデ ※2026年ご購入及び入手分のみ有効\nTシャツ＋１点\nf-rangeマグカップ　＋１点\nポロシャツ・パーカー　＋２点\nキャップ  　＋２点\nf-range射撃ベスト着用　＋3点\nその他\n(当店購入)HOLOSUN製品を使用銃へ搭載　＋１点\nレディースハンデ　＋２点 \n・参加費：11\,000円\n　　　　   100枚撃ち\n　　　　　事前エントリーをお願いします。 \n・賞典：順位賞として装弾券進呈(参加人数により増減) \n優勝最低100発～上限500発\n～5位・5飛び・10飛び賞あり\n※🔰別枠 \n【参加ポイント付与】\nガチャっ子1回参加につき1ポイント付与\n有効期間(ポイントカード発行日より2年間)内に50ポイント貯まると250発装弾引換券として使えます\n【早期エントリー特典】\n開催30日前までのエントリーで、早期エントリー2ポイント＋参加1ポイント＝計3ポイント付与\n(早期エントリー1回毎に25発もらえる計算です)\n※早期エントリーでキャンセルした場合、その回と次回早期エントリー分の早期エントリーポイントが付きません。次々回より復活します。\n※装弾購入が無い場合は参加ポイントも早期エントリーポイントも付与されません\n \n・　全ての競技に満射賞(＋3ポイント付与)あり\n・　おかわり自由  (別途精算) \n・　装弾 \n装弾持込可ですが、100発以上は当日お買い求めのうえ利用をお願いいたします(当日使う弾は持込装弾でOKです)。\n(当日ご購入頂けない場合は参加費＋1\,000円を頂戴し、賞典・各種ポイント付与の対象外とさせていただきます)\n國友銃砲火薬店発行の装弾引換券も使用可能です。\n装弾購入は前日までに要予約。 \n【その他注意事項】\n各種割引キャンペーンとf-range装弾券の併用はできません(國友券は可)。\nガチャっ子射撃会は【完全分煙】です。\n喫煙者と非喫煙者が気持ちよく楽しめる様、皆様のご協力をお願いいたします。\n基本的にはどなたでもご参加いただけるオープン射撃会ですが、当店の判断により参加をご遠慮いただく場合もございますので、予めご了承ください。
URL:https://f-range.jp/event/20260131/
LOCATION:神奈川大井\, 大井町赤田９０２\, 足柄上郡\, 神奈川県\, 258-0014\, 日本
CATEGORIES:大会
ATTACH;FMTTYPE=image/png:https://f-range.jp/wp-content/uploads/2023/11/1dccf397836edb116437b87f81f26fba.png
ORGANIZER;CN="f-range":MAILTO:info@f-range.jp
END:VEVENT
END:VCALENDAR