BEGIN:VCALENDAR
VERSION:2.0
PRODID:-//f-range 東京表参道の銃砲店 - ECPv6.15.14//NONSGML v1.0//EN
CALSCALE:GREGORIAN
METHOD:PUBLISH
X-WR-CALNAME:f-range 東京表参道の銃砲店
X-ORIGINAL-URL:https://f-range.jp
X-WR-CALDESC:f-range 東京表参道の銃砲店 のイベント
REFRESH-INTERVAL;VALUE=DURATION:PT1H
X-Robots-Tag:noindex
X-PUBLISHED-TTL:PT1H
BEGIN:VTIMEZONE
TZID:Asia/Tokyo
BEGIN:STANDARD
TZOFFSETFROM:+0900
TZOFFSETTO:+0900
TZNAME:JST
DTSTART:20240101T000000
END:STANDARD
END:VTIMEZONE
BEGIN:VEVENT
DTSTART;TZID=Asia/Tokyo:20251206T080000
DTEND;TZID=Asia/Tokyo:20251206T140000
DTSTAMP:20260424T074517
CREATED:20241209T001956Z
LAST-MODIFIED:20250811T222835Z
UID:10668-1765008000-1765029600@f-range.jp
SUMMARY:ガチャっ子練習会＠鹿留射撃場 2025/12/6 (土)
DESCRIPTION:・日時：2025年12月6日（土）8:00-14:00　(射撃開始8時 受付7時～) ※事前エントリー制 \n・場所：鹿留射撃場 トラップ・スキート共用射面 \n・種目：スラッグ速射・精密・ダブルトラップ・トラップ・シングルスキート\n※スラッグは競技内容が変更になる場合があります \nダブルトラップ(5m) ：30枚\nトラップ(7.5m) ：20枚\nトラップ(10m) ：20枚\nシングルスキート：20枚 \n・参加費：11\,000円(昼食付) \nスラッグ20発(オープンサイトは24発)＋クレー90枚撃ち(最大150発)\n希望される方はスラッグの代わりにエアライフル・装薬ライフルでもOKです \n昼食の事前手配が必要なため、事前エントリーをお願いします。 \n【参加ポイント付与】\nガチャっ子1回参加につき1ポイント付与\n有効期間(ポイントカード発行日より2年間)内に50ポイント貯まると250発装弾引換券として使えます\n【早期エントリー特典】\n開催30日前までのエントリーで、早期エントリー4ポイント＋参加1ポイント＝計5ポイント付与\n(早期エントリー1回毎に25発もらえる計算です)\n※早期エントリーでキャンセルした場合、その回と次回早期エントリー分の早期エントリーポイントが付きません。次々回より復活します。\n※装弾購入が無い場合は参加ポイントも早期エントリーポイントも付与されません\n \n・　全ての競技に満射賞(＋5ポイント付与)あり\n・　おかわり自由  (別途精算) \n・　装弾\n　　当店標準弾は、7.5号：NSI SUPER VELOCE、9号：インペリアル、スラッグ：レッドバードとなっております。\n指定が無い場合は、上記銘柄にてご用意させていただきます。\nバラ売り対応銘柄は、VELOCE\,FLUO\,S&B\,TT TWO\,インペリアルとなり、その他銘柄については250発単位での販売とさせていただきます。\n \n持込装弾の利用可ですが、当日撃つ分と同じ数以上は必ず当店でお買い求めをお願いいたします。\n(ご購入頂けない場合は参加費＋1\,000円を頂戴し、賞典・各種ポイント付与の対象外とさせていただきます)\n当店発行装弾券の他に、國友銃砲火薬店発行の装弾引換券が使用可能です。\n装弾購入は前日までに要予約。 \n【その他注意事項】\nガチャっ子射撃会は【完全分煙】です。\n喫煙者と非喫煙者が気持ちよく楽しめる様、皆様のご協力をお願いいたします。\n基本的にはどなたでもご参加いただけるオープン射撃会ですが、当店の判断により参加をご遠慮いただく場合もございますので、予めご了承ください。
URL:https://f-range.jp/event/20251206/
LOCATION:鹿留射撃場\, 鹿留３１０１\, 都留市\, 山梨県\, 4020032\, 日本
CATEGORIES:練習会
ATTACH;FMTTYPE=image/jpeg:https://f-range.jp/wp-content/uploads/2021/07/tripletrap.jpg
ORGANIZER;CN="f-range":MAILTO:info@f-range.jp
END:VEVENT
BEGIN:VEVENT
DTSTART;TZID=Asia/Tokyo:20251213T074500
DTEND;TZID=Asia/Tokyo:20251213T150000
DTSTAMP:20260424T074517
CREATED:20241204T022935Z
LAST-MODIFIED:20250811T222846Z
UID:10609-1765611900-1765638000@f-range.jp
SUMMARY:ガチャっ子☆納会＠友部射撃場2025/12/13(土)
DESCRIPTION:・日時：2025年12月13日（土）7:45-16:00 (06:45受付開始)　※事前エントリー制 \n・場所：友部射撃場トラップ A面 \n・種目：トリプルトラップ、ダブル・トラップ、トラップ \nダブルトラップ(5m) ：40枚\nトリプルトラップ：5mセンター・10mセンター　各30枚×2＝60枚\nトラップ(10m) ：25枚　※最初の10枚はストレート\nトラップ(15m) ：25枚　※最初の10枚はストレート \n※競技内容は変更になる可能性があります \n・参加費：11\,000円(昼食付)\n \n150枚撃ち \n昼食の事前手配が必要なため、事前エントリーをお願いします。 \n【参加ポイント付与】\nガチャっ子1回参加につき1ポイント付与\n有効期間(ポイントカード発行日より2年間)内に50ポイント貯まると250発装弾引換券として使えます \n【早期エントリー特典】\n開催30日前までのエントリーで、早期エントリー4ポイント＋参加1ポイント＝計5ポイント付与\n(早期エントリー1回毎に25発もらえる計算です)\n※早期エントリーでキャンセルした場合、その回と次回早期エントリー分の早期エントリーポイントが付きません。次々回より復活します。\n※装弾購入が無い場合は参加ポイントも早期エントリーポイントも付与されません \n【納会参加特典】\n参加者全員に参加賞あり。\n年間最多出席の方へ記念品贈呈します。 \n・　全ての競技に満射賞(＋5ポイント付与)あり\n・　おかわり自由  (別途精算)\n・　射場貸銃あります(別途1日2\,000円) \nSKB 1900(自動)\nBenelli M2(自動)\nchiappa Triple-crown(元折三連銃)\nベレッタASE90他、上下二連もあり \n・　装弾\n　　当店標準弾は、7.5号：NSI SUPER VELOCE、9号：インペリアルとなっております。\n指定が無い場合は、上記銘柄にてご用意させていただきます。\nバラ売り対応銘柄は、VELOCE\,FLUO\,S&B\,TT TWO\,インペリアルとなり、その他銘柄については250発単位での販売とさせていただきます。\n \n持込装弾の利用可ですが、当日撃つ分と同じ数以上は必ず当店でお買い求めをお願いいたします。\n(ご購入頂けない場合は参加費＋1\,000円を頂戴し、賞典・各種ポイント付与の対象外とさせていただきます)\n当店発行装弾券の他に、國友銃砲火薬店発行の装弾引換券が使用可能です。\n装弾購入は前日までに要予約。 \n【その他注意事項】\nガチャっ子射撃会は【完全分煙】です。\n喫煙者と非喫煙者が気持ちよく楽しめる様、皆様のご協力をお願いいたします。\n基本的にはどなたでもご参加いただけるオープン射撃会ですが、当店の判断により参加をご遠慮いただく場合もございますので、予めご了承ください。
URL:https://f-range.jp/event/20251213/
LOCATION:友部射撃場\, 笠間市平町1416-1\, 友部射撃場\, 茨城県\, 3091722\, 日本
CATEGORIES:練習会
ATTACH;FMTTYPE=image/jpeg:https://f-range.jp/wp-content/uploads/2021/07/tripletrap.jpg
ORGANIZER;CN="f-range":MAILTO:info@f-range.jp
END:VEVENT
BEGIN:VEVENT
DTSTART;TZID=Asia/Tokyo:20251220T180000
DTEND;TZID=Asia/Tokyo:20251220T220000
DTSTAMP:20260424T074517
CREATED:20241204T032513Z
LAST-MODIFIED:20251219T094351Z
UID:10625-1766253600-1766268000@f-range.jp
SUMMARY:f-range 大忘年会 (飲み会)
DESCRIPTION:・日時：2025年12月20日（土）18:00-22:00 (17:45受付開始)　※事前エントリー制\n・場所：青山の鉄板焼居酒屋(詳細はエントリーされた方へご案内します)\n・種目：刺身・鉄板焼料理各種・焼きそば・ご飯もの・他\n・参加費：6\,000円 (飲み放題付)\n席に限りがあるため、事前エントリーをお願いします。 \n【参加ポイント付与】\n飲み会には参加ポイントが付きません。 \n【早期エントリー特典】\n飲み会には早期エントリーもありません。 \n・　おかわり自由(飲み物)\n・　貸銃ございません\n・　銃器・装弾の持込は固くお断りいたします \n【その他注意事項】\nf-rangeのイベントは【完全分煙】です。\n喫煙者と非喫煙者が気持ちよく楽しめる様、皆様のご協力をお願いいたします。\n基本的にはどなたでもご参加いただけるイベントですが、当店の判断により参加をご遠慮いただく場合もございますので、予めご了承ください。
URL:https://f-range.jp/event/20251220/
LOCATION:f-range\, 神宮前3-11-13\, 渋谷区\, 東京都\, 1500001\, Japan
CATEGORIES:懇親会
ATTACH;FMTTYPE=image/jpeg:https://f-range.jp/wp-content/uploads/2024/12/IMG_4283sf.jpg
ORGANIZER;CN="f-range":MAILTO:info@f-range.jp
END:VEVENT
END:VCALENDAR