BEGIN:VCALENDAR
VERSION:2.0
PRODID:-//f-range 東京表参道の銃砲店 - ECPv6.15.14//NONSGML v1.0//EN
CALSCALE:GREGORIAN
METHOD:PUBLISH
X-WR-CALNAME:f-range 東京表参道の銃砲店
X-ORIGINAL-URL:https://f-range.jp
X-WR-CALDESC:f-range 東京表参道の銃砲店 のイベント
REFRESH-INTERVAL;VALUE=DURATION:PT1H
X-Robots-Tag:noindex
X-PUBLISHED-TTL:PT1H
BEGIN:VTIMEZONE
TZID:Asia/Tokyo
BEGIN:STANDARD
TZOFFSETFROM:+0900
TZOFFSETTO:+0900
TZNAME:JST
DTSTART:20240101T000000
END:STANDARD
END:VTIMEZONE
BEGIN:VEVENT
DTSTART;TZID=Asia/Tokyo:20250511T073000
DTEND;TZID=Asia/Tokyo:20250511T143000
DTSTAMP:20260424T185652
CREATED:20241209T000805Z
LAST-MODIFIED:20250508T210230Z
UID:10656-1746948600-1746973800@f-range.jp
SUMMARY:ガチャっ子練習会＠鹿留射撃場 2025/5/11 (日)
DESCRIPTION:・日時：2025年5月11日（日）7:30-14:00　(射撃開始7時半 受付6時半～) ※事前エントリー制 \n・場所：鹿留射撃場 トラップ・スキート共用射面 \n・種目：スラッグ速射・精密・ダブルトラップ・トラップ・シングルスキート\n※スラッグは競技内容が変更になる場合があります \nダブルトラップ(5m) ：30枚\nトラップ(7.5m) ：20枚\nトラップ(10m) ：20枚\nシングルスキート：20枚 \n・参加費：11\,000円(昼食付) \nスラッグ20発(オープンサイトは24発)＋クレー90枚撃ち(最大150発)\n希望される方はスラッグの代わりにエアライフル・装薬ライフルでもOKです \n昼食の事前手配が必要なため、事前エントリーをお願いします。 \n【参加ポイント付与】\nガチャっ子1回参加につき1ポイント付与\n有効期間(ポイントカード発行日より2年間)内に50ポイント貯まると250発装弾引換券として使えます\n【早期エントリー特典】\n開催30日前までのエントリーで、早期エントリー4ポイント＋参加1ポイント＝計5ポイント付与\n(早期エントリー1回毎に25発もらえる計算です)\n※早期エントリーでキャンセルした場合、その回と次回早期エントリー分の早期エントリーポイントが付きません。次々回より復活します。\n※装弾購入が無い場合は参加ポイントも早期エントリーポイントも付与されません\n \n・　全ての競技に満射賞(＋5ポイント付与)あり\n・　おかわり自由  (別途精算) \n・　装弾\n　　当店標準弾は、7.5号：NSI SUPER VELOCE、9号：インペリアルとなっております。\n指定が無い場合は、上記銘柄にてご用意させていただきます。\nバラ売り対応銘柄は、VELOCE\,FLUO\,S&B\,TT TWO\,インペリアルとなり、その他銘柄については250発単位での販売とさせていただきます。\n \n持込装弾の利用可ですが、当日撃つ分と同じ数以上は必ず当店でお買い求めの装弾の利用をお願いいたします。\n(ご購入頂けない場合は参加費＋1\,000円を頂戴し、賞典・各種ポイント付与の対象外とさせていただきます)\n当店発行装弾券の他に、國友銃砲火薬店発行の装弾引換券が使用可能です。\n装弾購入は前日までに要予約。 \n【その他注意事項】\nガチャっ子射撃会は【完全分煙】です。\n喫煙者と非喫煙者が気持ちよく楽しめる様、皆様のご協力をお願いいたします。\n基本的にはどなたでもご参加いただけるオープン射撃会ですが、当店の判断により参加をご遠慮いただく場合もございますので、予めご了承ください。
URL:https://f-range.jp/event/20250511/
LOCATION:鹿留射撃場\, 鹿留３１０１\, 都留市\, 山梨県\, 4020032\, 日本
CATEGORIES:練習会
ATTACH;FMTTYPE=image/jpeg:https://f-range.jp/wp-content/uploads/2021/07/tripletrap.jpg
ORGANIZER;CN="f-range":MAILTO:info@f-range.jp
END:VEVENT
BEGIN:VEVENT
DTSTART;TZID=Asia/Tokyo:20250518T073000
DTEND;TZID=Asia/Tokyo:20250518T150000
DTSTAMP:20260424T185652
CREATED:20241204T012838Z
LAST-MODIFIED:20250418T010629Z
UID:10580-1747553400-1747580400@f-range.jp
SUMMARY:【第100回記念】ガチャっ子☆TRAP【大会】＠友部射撃場2025/5/18(日)
DESCRIPTION:・日時：2025年5月18日（日）7:45-15:00 (6:45受付開始)　※事前エントリー制 \n・場所：友部射撃場トラップA面・トラップB面 \n・種目：トラップ \nトラップ(5m) ：25枚　A面\nトラップ(10m)：25枚　A面\nトラップ(15m) ：25枚　B面 ※ストレートのみ\nトラップ(15m) ：25枚　B面\n※競技内容は変更になる可能性があります \n・ハンデ：(当日受付時に自己申告。競技開始後の申告は無効) \nモスバーグのポンプアクションを使用すると＋１０点　※全てのラウンドで使用した場合のみ付与\nモスバーグの自動銃を使用すると＋５点　※全てのラウンドで使用した場合のみ付与\n上下二連銃を使用するとー１０点　※モスバーグ製上下二連を除く\n2025年度ガチャっ子参加回数×1点 (最大8点)\nf-rangeアイテム使用ハンデ\nTシャツ＋１点\n車かバイクにf-rangeステッカー貼付＋１点\nf-rangeマグカップ　＋１点\nポロシャツ・パーカー　＋２点\nキャップ  　＋２点\nf-range射撃ベスト着用　＋3点\nその他\n当日HOLOSUN製品を使用銃へ搭載　＋１点\nレディースハンデ　＋２点\n \n・参加費：11\,000円(昼食付)\n　　　　   100枚撃ち\n昼食の事前手配が必要なため、事前エントリーをお願いします。 \n・賞典：順位賞として装弾券進呈(参加人数により増減)\n優勝最低150発～上限500発\n～5位・5飛び・10飛び賞あり \n【参加ポイント付与】\nガチャっ子1回参加につき1ポイント付与\n有効期間(ポイントカード発行日より2年間)内に50ポイント貯まると250発装弾引換券として使えます\n【早期エントリー特典】\n開催30日前までのエントリーで、早期エントリー4ポイント＋参加1ポイント＝計5ポイント付与\n(早期エントリー1回毎に25発もらえる計算です)\n※早期エントリーでキャンセルした場合、その回と次回早期エントリー分の早期エントリーポイントが付きません。次々回より復活します。\n※装弾購入が無い場合は参加ポイントも早期エントリーポイントも付与されません\n \n・　全ての競技に満射賞(＋5ポイント付与)あり\n・　射場貸銃あります(別途1日2\,000円) \nSKB 1900(自動)\nBenelli M2(自動)\nchiappa Triple-crown(元折三連銃)\nベレッタASE90他、上下二連もあり \n・　装弾\n　　当店標準弾は、7.5号：NSI SUPER VELOCE、9号：インペリアルとなっております。\n指定が無い場合は、上記銘柄にてご用意させていただきます。\nバラ売り対応銘柄は、VELOCE\,FLUO\,S&B\,TT TWO\,インペリアルとなり、その他銘柄については250発単位での販売とさせていただきます。\n \n持込装弾の利用可ですが、当日撃つ分と同じ数以上は必ず当店でお買い求めの装弾の利用をお願いいたします。\n(ご購入頂けない場合は参加費＋1\,000円を頂戴し、賞典・各種ポイント付与の対象外とさせていただきます)\n当店発行装弾券の他に、國友銃砲火薬店発行の装弾引換券が使用可能です。\n装弾購入は前日までに要予約。 \n【その他注意事項】\nガチャっ子射撃会は【完全分煙】です。\n喫煙者と非喫煙者が気持ちよく楽しめる様、皆様のご協力をお願いいたします。\n基本的にはどなたでもご参加いただけるオープン射撃会ですが、当店の判断により参加をご遠慮いただく場合もございますので、予めご了承ください。
URL:https://f-range.jp/event/20250518/
LOCATION:友部射撃場\, 笠間市平町1416-1\, 友部射撃場\, 茨城県\, 3091722\, 日本
CATEGORIES:大会
ATTACH;FMTTYPE=image/png:https://f-range.jp/wp-content/uploads/2023/11/1dccf397836edb116437b87f81f26fba.png
ORGANIZER;CN="f-range":MAILTO:info@f-range.jp
END:VEVENT
BEGIN:VEVENT
DTSTART;TZID=Asia/Tokyo:20250525T073000
DTEND;TZID=Asia/Tokyo:20250525T143000
DTSTAMP:20260424T185652
CREATED:20241209T001324Z
LAST-MODIFIED:20250509T024506Z
UID:10659-1748158200-1748183400@f-range.jp
SUMMARY:ガチャっ子☆エアライフル・フィールド(弾道を掴む！エアライフル実践射撃会)＠鹿留射撃場 2025/5/25 (日)
DESCRIPTION:・日時：2025年5月25日（日）7:30-14:00　(射撃開始7時半 受付6時半～) ※事前エントリー制\n・場所：鹿留射撃場 トラップ・スキート共用射面\n・種目：エアライフルによるフィールド射撃 (20m/35m/50m)\n・参加費：6\,000円(昼食付)\n　　　　　昼食の事前手配が必要なため、事前エントリーをお願いします。 \n弾道を掴む！エアライフル実践射撃会\n実猟に直結する、距離感と着弾を掴む一日\n本射撃会は、実猟距離での弾道変化を体感し、より実戦的な射撃スキルを磨くことを目的としたイベントです。\n通常の射撃場では試せない20m／35mといった近中距離での射撃を通じて、リアルな狩猟シーンを想定した練習を行います。 \n■ 第1セッション：弾道ドロップの確認（委託射撃）\nまずは20m・35m・50mの距離に設置された的紙を使用し、机上での委託射撃からスタート。\n銃を安定させた状態で射撃し、【各距離における着弾点の変化（ドロップ量）】を正確に把握していただきます。 \n■ 第2セッション：自由射撃（自由姿勢・自由委託）\n続いては、参加者ご自身による自由姿勢（立射・膝射など）、または自由委託（バイポッドやザック使用など）での射撃へ。\nこのセッションでは、より実猟を意識したキジ的を使用し、本番さながらのトレーニングが可能です。 \n■ ドロップ量の参考値（50mゼロイン時）\n距離     着弾点の変化\n20m      約 +10mm\n35m      約 -15mm\n50m      ±0mm（基準点）\n※実際の着弾点は、銃の弾速・スコープハイト・使用弾の重量などにより異なります。 \n■ 事前準備のお願い\n当日の進行をスムーズに行うため、下記の情報をあらかじめご確認・メモしてご参加ください。\n※ご用意がない場合も順番に確認いたしますが、事前に準備いただくとその分、射撃練習に時間を充てられます。\n・使用する弾の種類・重量\n・弾速（m/s）\n・スコープハイト（スコープ中心〜銃身中心までの高さ）\n※また、可能であれば弾道計算アプリ等で着弾予測の事前計算をおすすめします。 \n ■ 本イベントの特長\n射撃場では一般的に50m／100mといった固定距離しか利用できませんが、本射撃会では特別な許可のもと、実猟で最も判断が難しい近中距離での射撃訓練が可能です。 \nぜひこの機会を逃さずご参加いただき、ご自身の射撃スキルを一段階引き上げてください。 \n【その他注意事項】\nガチャっ子射撃会は【完全分煙】です。\n喫煙者と非喫煙者が気持ちよく楽しめる様、皆様のご協力をお願いいたします。\n基本的にはどなたでもご参加いただけるオープン射撃会ですが、当店の判断により参加をご遠慮いただく場合もございますので、予めご了承ください。
URL:https://f-range.jp/event/20250525/
LOCATION:鹿留射撃場\, 鹿留３１０１\, 都留市\, 山梨県\, 4020032\, 日本
CATEGORIES:練習会
ATTACH;FMTTYPE=image/jpeg:https://f-range.jp/wp-content/uploads/2021/07/tripletrap.jpg
ORGANIZER;CN="f-range":MAILTO:info@f-range.jp
END:VEVENT
END:VCALENDAR