BEGIN:VCALENDAR
VERSION:2.0
PRODID:-//f-range 東京表参道の銃砲店 - ECPv6.15.14//NONSGML v1.0//EN
CALSCALE:GREGORIAN
METHOD:PUBLISH
X-ORIGINAL-URL:https://f-range.jp
X-WR-CALDESC:f-range 東京表参道の銃砲店 のイベント
REFRESH-INTERVAL;VALUE=DURATION:PT1H
X-Robots-Tag:noindex
X-PUBLISHED-TTL:PT1H
BEGIN:VTIMEZONE
TZID:Asia/Tokyo
BEGIN:STANDARD
TZOFFSETFROM:+0900
TZOFFSETTO:+0900
TZNAME:JST
DTSTART:20230101T000000
END:STANDARD
END:VTIMEZONE
BEGIN:VEVENT
DTSTART;TZID=Asia/Tokyo:20240915T000000
DTEND;TZID=Asia/Tokyo:20240915T000000
DTSTAMP:20260425T090827
CREATED:20231110T075758Z
LAST-MODIFIED:20240910T013029Z
UID:7021-1726358400-1726358400@f-range.jp
SUMMARY:ガチャっ子☆秋の皿祭り＠友部射撃場2024/9/15(日)
DESCRIPTION:・日時：2024年9月15日（日）7:00-16:00(競技終了。その後表彰式)　受付 05:45～ \n射撃開始 07:00(時間厳守)\n\n※完全事前エントリー制 \n・場所：友部射撃場 全面貸切 \n・種目：トリプルトラップ　ダブル・トラップ　シングルスキート　トラップ \nトリプルトラップ：5mセンター 30枚、10m フロント 30枚　※放出順は前日練習会にて射場へ掲示\nダブル・トラップ： 5m 30枚　※1枚目2枚目タイマー設定のいわゆる「トントン撃ち」\nトラップ： 10mストレート 10枚　＋　10mランダム 10枚\nシングルスキート：20枚(1番4枚・2～6番2枚・7番6枚)　シングル放出・全てP→Mの順 ※追射OK \n・ハンデ：(早期申込ハンデ以外は、当日受付時に自己申告。競技開始後の申告は無効とします) \nモスバーグ銃を使用すると＋１５点　※全てのラウンドで使用した場合のみ付与\n上下二連銃を使用するとー１０点　※モスバーグ製上下二連を除く\n早期申込ハンデ　～６月中＋６点　７月中＋４点　８月中＋３点　9/5まで＋２点\n5/11～8/31までのガチャっ子参加回数×1点\n(10回全て参加の場合、皆勤賞として倍の20点)\nf-rangeアイテム使用ハンデ\nTシャツ＋１点\n車かバイクにf-rangeステッカー貼付＋１点\nf-rangeマグカップお買い上げ　＋１点\nポロシャツ＋２点\nキャップ  　＋２点\nf-range射撃ベスト着用　＋3点\nその他\n当日HOLOSUN製品を使用銃へ搭載　＋１点\nレディースハンデ　＋２点\n前日練習～お肉祭り参加　＋５点\n最大ハンデ、なんと＋５９点です(笑) \n・賞典：順位に応じて各種賞典あり\n　　　　参加賞全員にあり\n全員に何かが当たるお楽しみ抽選会あり \n・参加費：12\,000円(飲料・昼食付) \n130枚撃ち \n\n※射場貸銃あります(別途1日2\,000円) 12番の譲受許可を持つ方のみ使用可・事前申込\nSKB 1900(自動)・Benelli M2(自動)・chiappa Triple-crown(三連))\n貸銃のみでの参加も可能です。\n遠方からお越しの方など、所持許可証と譲受許可証だけ持ってカラダ一つで参加できます。 \n※装弾について \n\nスキートは9号以下、トラップ射面では7.5号の使用を厳守\nグラム・グレイン数に制限は設けません（スペシャル盛々弾OK）\n全て二の矢まで撃った場合、Max170発（9号40発、7.5号130発必要です）\n試射や撃ち直し分で更に数発あれば確実に最後まで戦い抜けます！\n持込装弾の利用可ですが、当日撃つ分と同じ数以上は必ず当店でお買い求めの装弾の利用をお願いいたします。\n(ご購入頂けない場合は参加費＋1\,000円を頂戴し、賞典・各種ポイント付与の対象外とさせていただきます)\n國友銃砲火薬店発行の装弾引換券も使用可能(有効期限内に限る)です。\n（前日までに要予約）\n装弾は250発単位での購入がお得です。購入数に制限は設けていませんので、750発もOK！\n\n【参加ポイント付与】\n2024年度より、ガチャっ子1回参加につき1ポイント付与\n有効期間(初回参加より2年間)内に50ポイント貯まると250初装弾引換券を進呈します \n【早期エントリー特典】\n開催30日前までのエントリーで、早期エントリー4ポイント＋参加1ポイント＝計5ポイント付与\n(早期エントリー1回毎に25発もらえる計算です)\n※早期エントリーでキャンセルした場合、その回と次回早期エントリー分の早期エントリーポイントが付きません。次々回より復活します。\n※装弾購入が無い場合は参加ポイントも早期エントリーポイントも付与されません \n【その他注意事項】\nガチャっ子射撃会は【完全分煙】です。\n喫煙者と非喫煙者が気持ちよく楽しめる様、皆様のご協力をお願いいたします。\n基本的にはどなたでもご参加いただけるオープン大会ですが、当店の判断により参加をご遠慮いただく場合もございますので、予めご了承ください。 \n当日は時間がとてもタイトなため、前の方が撃ち終えたら間を開けずに速やかに射撃姿勢に入ってください。スムーズな運営にご協力をお願いいたしますm(__)m\n(全ての射撃機会で全員が3秒ずつ遅れるだけで、全体で約4時間半のズレに繋がります) \n 
URL:https://f-range.jp/event/20240915/
LOCATION:友部射撃場\, 笠間市平町1416-1\, 友部射撃場\, 茨城県\, 3091722\, 日本
CATEGORIES:大会
ATTACH;FMTTYPE=image/png:https://f-range.jp/wp-content/uploads/2021/07/3f2ff4719898b2cae9169933e3609424.png
ORGANIZER;CN="f-range":MAILTO:info@f-range.jp
END:VEVENT
BEGIN:VEVENT
DTSTART;TZID=Asia/Tokyo:20240923T000000
DTEND;TZID=Asia/Tokyo:20240923T000000
DTSTAMP:20260425T090827
CREATED:20231114T020545Z
LAST-MODIFIED:20240922T030351Z
UID:7137-1727049600-1727049600@f-range.jp
SUMMARY:ガチャっ子☆遠征＠須山射撃場2024/9/23(月㊗)
DESCRIPTION:・日時：2023年9月23日（月㊗）9:00-15:00(受付開始8時～)　※事前エントリー制 \n・場所：I&TP 須山クレー射撃場 スキート兼用射面 \n・種目：スキート・アメリカントラップ・ラビット \nダブルトラップ(5m) ：30枚 \nアメリカントラップ ：25枚 \nシングルスキート ：25枚 \nラビット ：20枚 \n　　　　※競技内容・ルールは変更になる可能性があります \n・参加費：11\,000円(飲料・昼食付) ※変更の可能性あり\n \n100枚撃ち \n飲料・昼食の事前手配が必要なため、事前エントリーをお願いします。\n \n【参加ポイント付与】\n2024年度より、ガチャっ子1回参加につき1ポイント付与\n有効期間(初回参加より2年間)内に50ポイント貯まると250初装弾引換券を進呈します \n【早期エントリー特典】\n開催30日前までのエントリーで、早期エントリー4ポイント＋参加1ポイント＝計5ポイント付与\n(早期エントリー1回毎に25発もらえる計算です)\n※早期エントリーでキャンセルした場合、その回と次回早期エントリー分の早期エントリーポイントが付きません。次々回より復活します。\n※装弾購入が無い場合は参加ポイントも早期エントリーポイントも付与されません \n・　おかわり自由  (別途精算) \n・　装弾 \n持込装弾の利用可ですが、当日撃つ分と同じ数以上は必ず当店でお買い求めの装弾の利用をお願いいたします。\n(ご購入頂けない場合は参加費＋1\,000円を頂戴し、賞典・各種ポイント付与の対象外とさせていただきます)\n國友銃砲火薬店発行の装弾引換券も使用可能です。\n（前日までに要予約） \n・ガチャっ子射撃会は【完全分煙】です。\n喫煙者と非喫煙者が気持ちよく楽しめる様、皆様のご協力をお願いいたします。
URL:https://f-range.jp/event/20240923/
LOCATION:須山射撃場\, 須山2311-1−124\, 裾野市\, 静岡県\, 410-1231\, 日本
CATEGORIES:練習会
ATTACH;FMTTYPE=image/jpeg:https://f-range.jp/wp-content/uploads/2021/07/tripletrap.jpg
ORGANIZER;CN="f-range":MAILTO:info@f-range.jp
END:VEVENT
BEGIN:VEVENT
DTSTART;TZID=Asia/Tokyo:20240928T080000
DTEND;TZID=Asia/Tokyo:20240928T170000
DTSTAMP:20260425T090827
CREATED:20231110T041831Z
LAST-MODIFIED:20240209T012303Z
UID:6979-1727510400-1727542800@f-range.jp
SUMMARY:ガチャっ子練習会＠鹿留射撃場 2024/9/28 (土)
DESCRIPTION:  \n・日時：2024年9月28日（土）8:00-15:00　(射撃開始8時 受付7時～) ※事前エントリー制 \n・場所：鹿留射撃場 トラップ・スキート共用射面 \n・種目：スラッグ速射x2種・ダブルトラップ・トラップ・シングルスキート\n※スラッグは競技内容が変更になる場合があります \nダブルトラップ(5m) ：50枚\nトラップ(7.5m) ：25枚\nシングルスキート ：25枚　※8番以外追射OK \n・参加費：11\,000円(飲料・昼食付) \nスラッグ20発(オープンサイトは24発)＋クレー100枚撃ち(最大150発)\n希望される方はスラッグの代わりにエアライフル・装薬ライフルでもOKです \n飲料・昼食の事前手配が必要なため、事前エントリーをお願いします。 \n【参加ポイント付与】\n2024年度より、ガチャっ子1回参加につき1ポイント付与\n有効期間(初回参加より2年間)内に50ポイント貯まると250初装弾引換券を進呈します \n【早期エントリー特典】\n開催30日前までのエントリーで、早期エントリー4ポイント＋参加1ポイント＝計5ポイント付与\n(早期エントリー1回毎に25発もらえる計算です)\n※早期エントリーでキャンセルした場合、その回と次回早期エントリー分の早期エントリーポイントが付きません。次々回より復活します。\n※装弾購入が無い場合は参加ポイントも早期エントリーポイントも付与されません\n \n  \n\n・　装弾\n持込装弾の利用可ですが、当日撃つ分と同じ数以上は必ず当店でお買い求めの装弾の利用をお願いいたします。\n(ご購入頂けない場合は参加費＋1\,000円を頂戴し、賞典・各種ポイント付与の対象外とさせていただきます)\n國友銃砲火薬店発行の装弾引換券も使用可能です。\n（前日までに要予約） \n【その他注意事項】\nガチャっ子射撃会は【完全分煙】です。\n喫煙者と非喫煙者が気持ちよく楽しめる様、皆様のご協力をお願いいたします。\n基本的にはどなたでもご参加いただけるオープン射撃会ですが、当店の判断により参加をご遠慮いただく場合もございますので、予めご了承ください。
URL:https://f-range.jp/event/20240928/
LOCATION:鹿留射撃場\, 鹿留３１０１\, 都留市\, 山梨県\, 4020032\, 日本
CATEGORIES:練習会
ATTACH;FMTTYPE=image/jpeg:https://f-range.jp/wp-content/uploads/2021/07/tripletrap.jpg
ORGANIZER;CN="f-range":MAILTO:info@f-range.jp
END:VEVENT
END:VCALENDAR