BEGIN:VCALENDAR
VERSION:2.0
PRODID:-//f-range 東京表参道の銃砲店 - ECPv6.15.14//NONSGML v1.0//EN
CALSCALE:GREGORIAN
METHOD:PUBLISH
X-ORIGINAL-URL:https://f-range.jp
X-WR-CALDESC:f-range 東京表参道の銃砲店 のイベント
REFRESH-INTERVAL;VALUE=DURATION:PT1H
X-Robots-Tag:noindex
X-PUBLISHED-TTL:PT1H
BEGIN:VTIMEZONE
TZID:Asia/Tokyo
BEGIN:STANDARD
TZOFFSETFROM:+0900
TZOFFSETTO:+0900
TZNAME:JST
DTSTART:20240101T000000
END:STANDARD
END:VTIMEZONE
BEGIN:VEVENT
DTSTART;TZID=Asia/Tokyo:20251018T080000
DTEND;TZID=Asia/Tokyo:20251018T150000
DTSTAMP:20260424T124726
CREATED:20241204T035053Z
LAST-MODIFIED:20250811T222751Z
UID:10629-1760774400-1760799600@f-range.jp
SUMMARY:ガチャっ子☆TRAP(遠征)＠古峰ヶ原射撃場2025/10/18(土)
DESCRIPTION:・日時：2025年10月18日(土)8:30-15:00(受付開始7時半～)　※事前エントリー制 \n・場所：古峰ヶ原射撃場 トラップ射面 \n・種目：トラップ \nトラップ(5m) ：25枚 \nトラップ(10m) ：25枚 \nトラップ(15m) ：25枚 ※ストレートのみ \nトラップ(15m) ：25枚 \n　　　　※競技内容・ルールは変更になる可能性があります \n・ハンデ：(当日受付時に自己申告。競技開始後の申告は無効) \nモスバーグのポンプアクションを使用すると＋１０点　※全てのラウンドで使用した場合のみ付与\nモスバーグの自動銃を使用すると＋５点　※全てのラウンドで使用した場合のみ付与\n上下二連銃を使用するとー１０点　※モスバーグ製上下二連を除く\n2025年度ガチャっ子参加回数×1点 (最大8点)\nf-rangeアイテム使用ハンデ\nTシャツ＋１点\n車かバイクにf-rangeステッカー貼付＋１点\nf-rangeマグカップ　＋１点\nポロシャツ・パーカー　＋２点\nキャップ  　＋２点\nf-range射撃ベスト着用　＋3点\nその他\nレディースハンデ　＋２点 \n・参加費：11\,000円\n　　　　　100枚撃ち \n事前エントリーをお願いします。\n \n・賞典：順位賞として装弾券進呈(参加人数により増減) \n優勝最低150発～上限500発\n～5位・5飛び・10飛び賞あり \n【参加ポイント付与】\nガチャっ子1回参加につき1ポイント付与\n有効期間(ポイントカード発行日より2年間)内に50ポイント貯まると250発装弾引換券として使えます\n【早期エントリー特典】\n開催30日前までのエントリーで、早期エントリー4ポイント＋参加1ポイント＝計5ポイント付与\n(早期エントリー1回毎に25発もらえる計算です)\n※早期エントリーでキャンセルした場合、その回と次回早期エントリー分の早期エントリーポイントが付きません。次々回より復活します。\n※装弾購入が無い場合は参加ポイントも早期エントリーポイントも付与されません\n \n・　全ての競技に満射賞(＋5ポイント付与)あり\n・　おかわり自由  (別途精算) \n・　装弾\n　　当店標準弾は、7.5号：NSI SUPER VELOCE、9号：インペリアルとなっております。\n指定が無い場合は、上記銘柄にてご用意させていただきます。\nバラ売り対応銘柄は、VELOCE\,FLUO\,S&B\,TT TWO\,インペリアルとなり、その他銘柄については250発単位での販売とさせていただきます。\n \n持込装弾の利用可ですが、当日撃つ分と同じ数以上は必ず当店でお買い求めをお願いいたします。(ご購入頂けない場合は参加費＋1\,000円を頂戴し、賞典・各種ポイント付与の対象外とさせていただきます)\n当店発行装弾券の他に、國友銃砲火薬店発行の装弾引換券が使用可能です。\n装弾購入は前日までに要予約。 \n・ガチャっ子射撃会は【完全分煙】です。\n喫煙者と非喫煙者が気持ちよく楽しめる様、皆様のご協力をお願いいたします。
URL:https://f-range.jp/event/20251018/
LOCATION:古峰ヶ原射撃場\, 草久３０２７\, 鹿沼市\, 栃木県\, 322-0101\, 日本
CATEGORIES:大会,遠征
ATTACH;FMTTYPE=image/png:https://f-range.jp/wp-content/uploads/2023/11/1dccf397836edb116437b87f81f26fba.png
ORGANIZER;CN="f-range":MAILTO:info@f-range.jp
END:VEVENT
END:VCALENDAR