BEGIN:VCALENDAR
VERSION:2.0
PRODID:-//f-range 東京表参道の銃砲店 - ECPv6.15.14//NONSGML v1.0//EN
CALSCALE:GREGORIAN
METHOD:PUBLISH
X-ORIGINAL-URL:https://f-range.jp
X-WR-CALDESC:f-range 東京表参道の銃砲店 のイベント
REFRESH-INTERVAL;VALUE=DURATION:PT1H
X-Robots-Tag:noindex
X-PUBLISHED-TTL:PT1H
BEGIN:VTIMEZONE
TZID:Asia/Tokyo
BEGIN:STANDARD
TZOFFSETFROM:+0900
TZOFFSETTO:+0900
TZNAME:JST
DTSTART:20240101T000000
END:STANDARD
END:VTIMEZONE
BEGIN:VEVENT
DTSTART;TZID=Asia/Tokyo:20260404T083000
DTEND;TZID=Asia/Tokyo:20260404T150000
DTSTAMP:20260424T041645
CREATED:20251128T022358Z
LAST-MODIFIED:20260120T015933Z
UID:13189-1775291400-1775314800@f-range.jp
SUMMARY:ガチャっ子☆遠征＠那須国際射撃場2026/4/4(土)
DESCRIPTION:・日時：2026年4月4日（土）8:30-15:00(受付開始8時～)　※事前エントリー制 \n・場所：那須国際射撃場 兼用射面・ラビット射面 \n・種目：トリプルトラップ・スキート・ラビット \nトリプルトラップ(5mフロント) ：30枚 \nトリプルトラップ(10mフロント) ：30枚 \nシングルスキート ：20枚 \nラビット ：20枚 \n　　　　※競技内容・ルールは変更になる可能性があります\n※初心者🔰枠は別メニューでご用意しております \n・参加費：11\,000円(昼食付)\n \n100枚撃ち \n準備の都合上事前エントリーをお願いします。\n昼食は、新川屋さんのご協力のもと、とっても美味しいタコ＆カレー弁当の予定です！\n\n \n【参加ポイント付与】\nガチャっ子1回参加につき1ポイント付与\n有効期間(ポイントカード発行日より2年間)内に50ポイント貯まると250発装弾引換券として使えます \n【早期エントリー特典】\n開催30日前までのエントリーで、早期エントリー2ポイント＋参加1ポイント＝計3ポイント付与\n※早期エントリーでキャンセルした場合、その回と次回早期エントリー分の早期エントリーポイントが付きません。次々回より復活します。\n※装弾購入が無い場合は参加ポイントも早期エントリーポイントも付与されません\n \n  \n・　全ての競技に満射賞(＋3ポイント付与)あり\n・　おかわり自由  (別途精算) \n・　装弾\n　　当店標準弾は、7.5号：NSI SUPER VELOCE、9号：インペリアルとなっております。\n指定が無い場合は、上記銘柄にてご用意させていただきます。\nバラ売り対応銘柄は、VELOCE\,FLUO\,S&B\,TT TWO\,インペリアルとなり、その他銘柄については250発単位での販売とさせていただきます。\n \n装弾持込可ですが、100発以上は当日お買い求めのうえ利用をお願いいたします(当日使う弾は持込装弾でOKです)。\n(当日ご購入頂けない場合は参加費＋1\,000円を頂戴し、賞典・各種ポイント付与の対象外とさせていただきます)\n國友銃砲火薬店発行の装弾引換券も使用可能です。\n装弾購入は前日までに要予約。 \n【その他注意事項】\n各種割引キャンペーンとf-range装弾券の併用はできません(國友券は可)。\nガチャっ子射撃会は【完全分煙】です。\n喫煙者と非喫煙者が気持ちよく楽しめる様、皆様のご協力をお願いいたします。\n基本的にはどなたでもご参加いただけるオープン射撃会ですが、当店の判断により参加をご遠慮いただく場合もございますので、予めご了承ください。
URL:https://f-range.jp/event/20260404/
LOCATION:那須国際射撃場\, 高久３９００\, 那須郡那須町\, 栃木県\, 325-0001
CATEGORIES:練習会,遠征
ATTACH;FMTTYPE=image/jpeg:https://f-range.jp/wp-content/uploads/2021/07/tripletrap.jpg
ORGANIZER;CN="f-range":MAILTO:info@f-range.jp
END:VEVENT
BEGIN:VEVENT
DTSTART;TZID=Asia/Tokyo:20251018T080000
DTEND;TZID=Asia/Tokyo:20251018T150000
DTSTAMP:20260424T041645
CREATED:20241204T035053Z
LAST-MODIFIED:20250811T222751Z
UID:10629-1760774400-1760799600@f-range.jp
SUMMARY:ガチャっ子☆TRAP(遠征)＠古峰ヶ原射撃場2025/10/18(土)
DESCRIPTION:・日時：2025年10月18日(土)8:30-15:00(受付開始7時半～)　※事前エントリー制 \n・場所：古峰ヶ原射撃場 トラップ射面 \n・種目：トラップ \nトラップ(5m) ：25枚 \nトラップ(10m) ：25枚 \nトラップ(15m) ：25枚 ※ストレートのみ \nトラップ(15m) ：25枚 \n　　　　※競技内容・ルールは変更になる可能性があります \n・ハンデ：(当日受付時に自己申告。競技開始後の申告は無効) \nモスバーグのポンプアクションを使用すると＋１０点　※全てのラウンドで使用した場合のみ付与\nモスバーグの自動銃を使用すると＋５点　※全てのラウンドで使用した場合のみ付与\n上下二連銃を使用するとー１０点　※モスバーグ製上下二連を除く\n2025年度ガチャっ子参加回数×1点 (最大8点)\nf-rangeアイテム使用ハンデ\nTシャツ＋１点\n車かバイクにf-rangeステッカー貼付＋１点\nf-rangeマグカップ　＋１点\nポロシャツ・パーカー　＋２点\nキャップ  　＋２点\nf-range射撃ベスト着用　＋3点\nその他\nレディースハンデ　＋２点 \n・参加費：11\,000円\n　　　　　100枚撃ち \n事前エントリーをお願いします。\n \n・賞典：順位賞として装弾券進呈(参加人数により増減) \n優勝最低150発～上限500発\n～5位・5飛び・10飛び賞あり \n【参加ポイント付与】\nガチャっ子1回参加につき1ポイント付与\n有効期間(ポイントカード発行日より2年間)内に50ポイント貯まると250発装弾引換券として使えます\n【早期エントリー特典】\n開催30日前までのエントリーで、早期エントリー4ポイント＋参加1ポイント＝計5ポイント付与\n(早期エントリー1回毎に25発もらえる計算です)\n※早期エントリーでキャンセルした場合、その回と次回早期エントリー分の早期エントリーポイントが付きません。次々回より復活します。\n※装弾購入が無い場合は参加ポイントも早期エントリーポイントも付与されません\n \n・　全ての競技に満射賞(＋5ポイント付与)あり\n・　おかわり自由  (別途精算) \n・　装弾\n　　当店標準弾は、7.5号：NSI SUPER VELOCE、9号：インペリアルとなっております。\n指定が無い場合は、上記銘柄にてご用意させていただきます。\nバラ売り対応銘柄は、VELOCE\,FLUO\,S&B\,TT TWO\,インペリアルとなり、その他銘柄については250発単位での販売とさせていただきます。\n \n持込装弾の利用可ですが、当日撃つ分と同じ数以上は必ず当店でお買い求めをお願いいたします。(ご購入頂けない場合は参加費＋1\,000円を頂戴し、賞典・各種ポイント付与の対象外とさせていただきます)\n当店発行装弾券の他に、國友銃砲火薬店発行の装弾引換券が使用可能です。\n装弾購入は前日までに要予約。 \n・ガチャっ子射撃会は【完全分煙】です。\n喫煙者と非喫煙者が気持ちよく楽しめる様、皆様のご協力をお願いいたします。
URL:https://f-range.jp/event/20251018/
LOCATION:古峰ヶ原射撃場\, 草久３０２７\, 鹿沼市\, 栃木県\, 322-0101\, 日本
CATEGORIES:大会,遠征
ATTACH;FMTTYPE=image/png:https://f-range.jp/wp-content/uploads/2023/11/1dccf397836edb116437b87f81f26fba.png
ORGANIZER;CN="f-range":MAILTO:info@f-range.jp
END:VEVENT
BEGIN:VEVENT
DTSTART;TZID=Asia/Tokyo:20250920T080000
DTEND;TZID=Asia/Tokyo:20250920T150000
DTSTAMP:20260424T041645
CREATED:20241204T030446Z
LAST-MODIFIED:20250811T222720Z
UID:10617-1758355200-1758380400@f-range.jp
SUMMARY:ガチャっ子☆遠征＠須山射撃場2025/9/20(土)
DESCRIPTION:・日時：2025年9月20日(土) 9:00-15:00(受付開始8時～)　※事前エントリー制 \n・場所：I&TP 須山クレー射撃場 スキート兼用射面 \n・種目：スキート・アメリカントラップ・ラビット \nダブルトラップ(5m) ：30枚 \nアメリカントラップ ：25枚 \nシングルスキート ：25枚 \nラビット ：20枚 \n　　　　※競技内容・ルールは変更になる可能性があります \n・参加費：11\,000円\n \n100枚撃ち \n事前エントリーをお願いします。\n \n【参加ポイント付与】\nガチャっ子1回参加につき1ポイント付与\n有効期間(ポイントカード発行日より2年間)内に50ポイント貯まると250発装弾引換券として使えます \n【早期エントリー特典】\n開催30日前までのエントリーで、早期エントリー4ポイント＋参加1ポイント＝計5ポイント付与\n(早期エントリー1回毎に25発もらえる計算です)\n※早期エントリーでキャンセルした場合、その回と次回早期エントリー分の早期エントリーポイントが付きません。次々回より復活します。\n※装弾購入が無い場合は参加ポイントも早期エントリーポイントも付与されません \n・　全ての競技に満射賞(＋5ポイント付与)あり\n・　おかわり自由  (別途精算) \n・　装弾\n　　当店標準弾は、7.5号：NSI SUPER VELOCE、9号：インペリアルとなっております。\n指定が無い場合は、上記銘柄にてご用意させていただきます。\nバラ売り対応銘柄は、VELOCE\,FLUO\,S&B\,TT TWO\,インペリアルとなり、その他銘柄については250発単位での販売とさせていただきます。\n \n持込装弾の利用可ですが、当日撃つ分と同じ数以上は必ず当店でお買い求めをお願いいたします。(ご購入頂けない場合は参加費＋1\,000円を頂戴し、賞典・各種ポイント付与の対象外とさせていただきます)\n当店発行装弾券の他に、國友銃砲火薬店発行の装弾引換券が使用可能です。\n装弾購入は前日までに要予約。 \n・ガチャっ子射撃会は【完全分煙】です。\n喫煙者と非喫煙者が気持ちよく楽しめる様、皆様のご協力をお願いいたします。
URL:https://f-range.jp/event/20250920/
LOCATION:須山射撃場\, 須山2311-1−124\, 裾野市\, 静岡県\, 410-1231\, 日本
CATEGORIES:遠征
ATTACH;FMTTYPE=image/jpeg:https://f-range.jp/wp-content/uploads/2021/07/tripletrap.jpg
ORGANIZER;CN="f-range":MAILTO:info@f-range.jp
END:VEVENT
BEGIN:VEVENT
DTSTART;TZID=Asia/Tokyo:20250809T080000
DTEND;TZID=Asia/Tokyo:20250809T150000
DTSTAMP:20260424T041645
CREATED:20241204T024403Z
LAST-MODIFIED:20250418T010608Z
UID:10613-1754726400-1754751600@f-range.jp
SUMMARY:ガチャっ子☆TRAP【大会】＠成田射撃場2025/8/9(土)
DESCRIPTION:・日時：2025年8月9日（土）8:00-15:00 (7:00受付開始)　※事前エントリー制 \n・場所：成田射撃場トラップC面 \n・種目：トラップ \nトラップ(5m) ：25枚\nトラップ(10m)：25枚\nトラップ(15m) ：25枚　※ストレートのみ\nトラップ(15m) ：25枚\n※競技内容は変更になる可能性があります \n・ハンデ：(当日受付時に自己申告。競技開始後の申告は無効) \nモスバーグのポンプアクションを使用すると＋１０点　※全てのラウンドで使用した場合のみ付与\nモスバーグの自動銃を使用すると＋５点　※全てのラウンドで使用した場合のみ付与\n上下二連銃を使用するとー１０点　※モスバーグ製上下二連を除く\n2025年度ガチャっ子参加回数×1点 (最大8点)\nf-rangeアイテム使用ハンデ\nTシャツ＋１点\n車かバイクにf-rangeステッカー貼付＋１点\nf-rangeマグカップ　＋１点\nポロシャツ・パーカー　＋２点\nキャップ  　＋２点\nf-range射撃ベスト着用　＋3点\nその他\n当日HOLOSUN製品を使用銃へ搭載　＋１点\nレディースハンデ　＋２点\n \n・参加費：11\,000円\n　　　　   100枚撃ち\n事前エントリーをお願いします。 \n・賞典：順位賞として装弾券進呈(参加人数により増減)\n優勝最低150発～上限500発\n1位～5位・5飛び・10飛び賞あり \n【参加ポイント付与】\nガチャっ子1回参加につき1ポイント付与\n有効期間(ポイントカード発行日より2年間)内に50ポイント貯まると250発装弾引換券として使えます\n【早期エントリー特典】\n開催30日前までのエントリーで、早期エントリー4ポイント＋参加1ポイント＝計5ポイント付与\n(早期エントリー1回毎に25発もらえる計算です)\n※早期エントリーでキャンセルした場合、その回と次回早期エントリー分の早期エントリーポイントが付きません。次々回より復活します。\n※装弾購入が無い場合は参加ポイントも早期エントリーポイントも付与されません\n \n・　全ての競技に満射賞(＋5ポイント付与)あり\n \n・　装弾\n　　当店標準弾は、7.5号：NSI SUPER VELOCE、9号：インペリアルとなっております。\n指定が無い場合は、上記銘柄にてご用意させていただきます。\nバラ売り対応銘柄は、VELOCE\,FLUO\,S&B\,TT TWO\,インペリアルとなり、その他銘柄については250発単位での販売とさせていただきます。\n \n持込装弾の利用可ですが、当日撃つ分と同じ数以上は必ず当店でお買い求めの装弾の利用をお願いいたします。\n(ご購入頂けない場合は参加費＋1\,000円を頂戴し、賞典・各種ポイント付与の対象外とさせていただきます)\n当店発行装弾券の他に、國友銃砲火薬店発行の装弾引換券が使用可能です。\n装弾購入は前日までに要予約。 \n【その他注意事項】\nガチャっ子射撃会は【完全分煙】です。\n喫煙者と非喫煙者が気持ちよく楽しめる様、皆様のご協力をお願いいたします。\n基本的にはどなたでもご参加いただけるオープン射撃会ですが、当店の判断により参加をご遠慮いただく場合もございますので、予めご了承ください。
URL:https://f-range.jp/event/20250809/
LOCATION:成田射撃場\, 山田１６６\, 印西市\, 千葉県\, 270-1604\, 日本
CATEGORIES:大会,遠征
ATTACH;FMTTYPE=image/png:https://f-range.jp/wp-content/uploads/2023/11/1dccf397836edb116437b87f81f26fba.png
ORGANIZER;CN="f-range":MAILTO:info@f-range.jp
END:VEVENT
BEGIN:VEVENT
DTSTART;TZID=Asia/Tokyo:20250713T083000
DTEND;TZID=Asia/Tokyo:20250713T140000
DTSTAMP:20260424T041645
CREATED:20241204T004530Z
LAST-MODIFIED:20250703T062045Z
UID:10577-1752395400-1752415200@f-range.jp
SUMMARY:ガチャっ子☆遠征＠長野県営総合射撃場(辰野)2025/7/13(日)
DESCRIPTION:・日時：2023年7月13日（日）8:30-15:00(受付開始7時45分～)　※事前エントリー制 \n・場所：長野県営総合射撃場(辰野) トラップ(フィールド)射面・スキート(ラビット)射面 \n・種目：トラップ・ダブルトラップ・ラビット \nダブルトラップ(5m) ：30枚\nトラップ(5m) ：25枚\nトラップ(10m) ：25枚 ※最初の10枚はストレート\nラビット ：20枚 ※射場により9号指定 \n　　　　※競技内容・ルールは変更になる可能性があります \n・参加費：11\,000円\n \n100枚撃ち \n【参加ポイント付与】\nガチャっ子1回参加につき1ポイント付与\n有効期間(ポイントカード発行日より2年間)内に50ポイント貯まると250発装弾引換券として使えます\n【早期エントリー特典】\n開催30日前までのエントリーで、早期エントリー4ポイント＋参加1ポイント＝計5ポイント付与\n(早期エントリー1回毎に25発もらえる計算です)\n※早期エントリーでキャンセルした場合、その回と次回早期エントリー分の早期エントリーポイントが付きません。次々回より復活します。\n※装弾購入が無い場合は参加ポイントも早期エントリーポイントも付与されません\n \n・　全ての競技に満射賞(＋5ポイント付与)あり\n・　おかわり自由  (別途精算)\n・　装弾\n　　当店標準弾は、7.5号：NSI SUPER VELOCE、9号：インペリアルとなっております。\n指定が無い場合は、上記銘柄にてご用意させていただきます。\nバラ売り対応銘柄は、VELOCE\,FLUO\,S&B\,TT TWO\,インペリアルとなり、その他銘柄については250発単位での販売とさせていただきます。\n \n持込装弾の利用可ですが、当日撃つ分と同じ数以上は必ず当店でお買い求めの装弾の利用をお願いいたします。\n(ご購入頂けない場合は参加費＋1\,000円を頂戴し、賞典・各種ポイント付与の対象外とさせていただきます)\n当店発行装弾券の他に、國友銃砲火薬店発行の装弾引換券が使用可能です。\n装弾購入は前日までに要予約。 \n・ガチャっ子射撃会は【完全分煙】です。\n喫煙者と非喫煙者が気持ちよく楽しめる様、皆様のご協力をお願いいたします。
URL:https://f-range.jp/event/20250713/
LOCATION:長野県営総合射撃場\, 大字沢底字山寺山\, 上伊那郡辰野町\, 長野県\, 399-0423\, 日本
CATEGORIES:遠征
ATTACH;FMTTYPE=image/jpeg:https://f-range.jp/wp-content/uploads/2021/07/tripletrap.jpg
ORGANIZER;CN="f-range":MAILTO:info@f-range.jp
END:VEVENT
BEGIN:VEVENT
DTSTART;TZID=Asia/Tokyo:20250628T090000
DTEND;TZID=Asia/Tokyo:20250628T150000
DTSTAMP:20260424T041645
CREATED:20241204T075550Z
LAST-MODIFIED:20250627T092101Z
UID:10637-1751101200-1751122800@f-range.jp
SUMMARY:ガチャっ子☆遠征＠ぐんまジャイアント射撃場2025/6/28(土)
DESCRIPTION:・日時：2025年6月28日(土) 9:00-15:00(受付開始8時～)　※事前エントリー制 \n・場所：ぐんまジャイアント射撃場 トラップB射面 \n・種目：トリプルトラップ・ダブルトラップ・トラップ \nダブルトラップ(5m) ：20枚 \nトリプルトラップ：5mフロント・5mセンター・10mフロント　各30枚×3＝90枚 \nトラップ(10m) ：20枚　※最初の10枚はストレート \n　　　　※競技内容・ルールは変更になる可能性があります \n・参加費：11\,000円\n \n130枚撃ち \n事前エントリーをお願いします。\n \n【参加ポイント付与】\nガチャっ子1回参加につき1ポイント付与\n有効期間(ポイントカード発行日より2年間)内に50ポイント貯まると250発装弾引換券として使えます \n【早期エントリー特典】\n開催30日前までのエントリーで、早期エントリー4ポイント＋参加1ポイント＝計5ポイント付与\n(早期エントリー1回毎に25発もらえる計算です)\n※早期エントリーでキャンセルした場合、その回と次回早期エントリー分の早期エントリーポイントが付きません。次々回より復活します。\n※装弾購入が無い場合は参加ポイントも早期エントリーポイントも付与されません \n【FIOCCHI特典】\nぐんまジャイアントでの開催に限り、(当店購入の)FIOCCHI装弾使用(クレーの枚数以上)の方には、＋3ポイント付与いたします \n・　全ての競技に満射賞(＋5ポイント付与)あり\n・　おかわり自由  (別途精算) \n・　装弾\n　　当店標準弾は、7.5号：NSI SUPER VELOCE、9号：インペリアルとなっております。\n指定が無い場合は、上記銘柄にてご用意させていただきます。\nバラ売り対応銘柄は、VELOCE\,FLUO\,S&B\,TT TWO\,インペリアルとなり、その他銘柄については250発単位での販売とさせていただきます。\n \n持込装弾の利用可ですが、当日撃つ分と同じ数以上は必ず当店でお買い求めの装弾の利用をお願いいたします。\n(ご購入頂けない場合は参加費＋1\,000円を頂戴し、賞典・各種ポイント付与の対象外とさせていただきます)\n当店発行装弾券の他に、國友銃砲火薬店発行の装弾引換券が使用可能です。\n装弾購入は前日までに要予約。 \n・ガチャっ子射撃会は【完全分煙】です。\n喫煙者と非喫煙者が気持ちよく楽しめる様、皆様のご協力をお願いいたします。
URL:https://f-range.jp/event/20250628/
LOCATION:ぐんまジャイアント射撃場\, 桑原６０４\, 富岡市\, 群馬県\, 370-2301\, Japan
CATEGORIES:大会,遠征
ATTACH;FMTTYPE=image/jpeg:https://f-range.jp/wp-content/uploads/2021/07/tripletrap.jpg
ORGANIZER;CN="f-range":MAILTO:info@f-range.jp
END:VEVENT
BEGIN:VEVENT
DTSTART;TZID=Asia/Tokyo:20250329T083000
DTEND;TZID=Asia/Tokyo:20250329T150000
DTSTAMP:20260424T041645
CREATED:20241208T234604Z
LAST-MODIFIED:20250218T060227Z
UID:10650-1743237000-1743260400@f-range.jp
SUMMARY:ガチャっ子☆遠征＠那須国際射撃場2025/3/29(土)
DESCRIPTION:・日時：2025年3月29日（土）8:30-15:00(受付開始8時～)　※事前エントリー制 \n・場所：那須国際射撃場 兼用射面・ラビット射面 \n・種目：トリプルトラップ・スキート・ラビット \nトリプルトラップ(5mフロント) ：30枚 \nトリプルトラップ(10mフロント) ：30枚 \nシングルスキート ：20枚 \nラビット ：20枚 \n　　　　※競技内容・ルールは変更になる可能性があります \n・参加費：11\,000円(昼食付)\n \n100枚撃ち \n昼食の事前手配が必要なため、事前エントリーをお願いします。\n昼食は、新川屋さんのご協力のもと、とっても美味しいお弁当の予定です！ \n【参加ポイント付与】\nガチャっ子1回参加につき1ポイント付与\n有効期間(ポイントカード発行日より2年間)内に50ポイント貯まると250発装弾引換券として使えます \n【早期エントリー特典】\n開催30日前までのエントリーで、早期エントリー4ポイント＋参加1ポイント＝計5ポイント付与\n(早期エントリー1回毎に25発もらえる計算です)\n※早期エントリーでキャンセルした場合、その回と次回早期エントリー分の早期エントリーポイントが付きません。次々回より復活します。\n※装弾購入が無い場合は参加ポイントも早期エントリーポイントも付与されません\n \n  \n・　全ての競技に満射賞(＋5ポイント付与)あり\n・　おかわり自由  (別途精算) \n・　装弾\n　　当店標準弾は、7.5号：NSI SUPER VELOCE、9号：インペリアルとなっております。\n指定が無い場合は、上記銘柄にてご用意させていただきます。\nバラ売り対応銘柄は、VELOCE\,FLUO\,S&B\,TT TWO\,インペリアルとなり、その他銘柄については250発単位での販売とさせていただきます。\n \n持込装弾の利用可ですが、当日撃つ分と同じ数以上は必ず当店でお買い求めの装弾の利用をお願いいたします。\n(ご購入頂けない場合は参加費＋1\,000円を頂戴し、賞典・各種ポイント付与の対象外とさせていただきます)\n当店発行装弾券の他に、國友銃砲火薬店発行の装弾引換券が使用可能です。\n装弾購入は前日までに要予約。 \n【その他注意事項】\nガチャっ子射撃会は【完全分煙】です。\n喫煙者と非喫煙者が気持ちよく楽しめる様、皆様のご協力をお願いいたします。\n基本的にはどなたでもご参加いただけるオープン射撃会ですが、当店の判断により参加をご遠慮いただく場合もございますので、予めご了承ください。
URL:https://f-range.jp/event/20250329/
LOCATION:那須国際射撃場\, 高久３９００\, 那須郡那須町\, 栃木県\, 325-0001
CATEGORIES:遠征
ATTACH;FMTTYPE=image/jpeg:https://f-range.jp/wp-content/uploads/2021/07/tripletrap.jpg
ORGANIZER;CN="f-range":MAILTO:info@f-range.jp
END:VEVENT
BEGIN:VEVENT
DTSTART;TZID=Asia/Tokyo:20250208T073000
DTEND;TZID=Asia/Tokyo:20250208T150000
DTSTAMP:20260424T041645
CREATED:20241204T055004Z
LAST-MODIFIED:20241204T055004Z
UID:10633-1738999800-1739026800@f-range.jp
SUMMARY:ガチャっ子☆TRAP＠神奈川大井射撃場 2024/2/8(土)
DESCRIPTION:  \n・日時：2025年2月8日（土）7:30-15:00 (6:30受付開始)　※事前エントリー制 \n７時半撃ち始め\n・場所：神奈川大井射撃場　アメリカン射面 \n・種目：トラップ \nトラップ(5m) ：25枚\nトラップ(10m)：25枚\nトラップ(15m) ：25枚 ※ストレート\nトラップ(15m) ：25枚\n※競技内容は変更になる可能性があります\n※初心者は全てストレートのみ \n・ハンデ：(当日受付時に自己申告。競技開始後の申告は無効) \nモスバーグのポンプアクションを使用すると＋１０点　※全てのラウンドで使用した場合のみ付与\nモスバーグの自動銃を使用すると＋５点　※全てのラウンドで使用した場合のみ付与\n上下二連銃を使用するとー１０点　※モスバーグ製上下二連を除く\n2025年度ガチャっ子参加回数×1点 (最大8点)\nf-rangeアイテム使用ハンデ\nTシャツ＋１点\n車かバイクにf-rangeステッカー貼付＋１点\nf-rangeマグカップ　＋１点\nポロシャツ・パーカー　＋２点\nキャップ  　＋２点\nf-range射撃ベスト着用　＋3点\nその他\n当日HOLOSUN製品を使用銃へ搭載　＋１点\nレディースハンデ　＋２点 \n・参加費：11\,000円\n　　　　   100枚撃ち\n　　　　　事前エントリーをお願いします。 \n・賞典：順位賞として装弾券進呈(参加人数により増減) \n優勝最低150発～上限500発\n～5位・5飛び・10飛び賞あり \n【参加ポイント付与】\nガチャっ子1回参加につき1ポイント付与\n有効期間(ポイントカード発行日より2年間)内に50ポイント貯まると250発装弾引換券として使えます\n【早期エントリー特典】\n開催30日前までのエントリーで、早期エントリー4ポイント＋参加1ポイント＝計5ポイント付与\n(早期エントリー1回毎に25発もらえる計算です)\n※早期エントリーでキャンセルした場合、その回と次回早期エントリー分の早期エントリーポイントが付きません。次々回より復活します。\n※装弾購入が無い場合は参加ポイントも早期エントリーポイントも付与されません\n \n・　全ての競技に満射賞(＋5ポイント付与)あり\n・　おかわり自由  (別途精算) \n・　装弾 \n持込装弾の利用可ですが、当日撃つ分と同じ数以上は必ず当店でお買い求めの装弾の利用をお願いいたします。\n(ご購入頂けない場合は参加費＋1\,000円を頂戴し、賞典・各種ポイント付与の対象外とさせていただきます)\n國友銃砲火薬店発行の装弾引換券も使用可能です。\n（前日までに要予約） \n・ガチャっ子射撃会は【完全分煙】です。\n喫煙者と非喫煙者が気持ちよく楽しめる様、皆様のご協力をお願いいたします。
URL:https://f-range.jp/event/20250208/
LOCATION:神奈川大井\, 大井町赤田９０２\, 足柄上郡\, 神奈川県\, 258-0014\, 日本
CATEGORIES:大会,遠征
ATTACH;FMTTYPE=image/jpeg:https://f-range.jp/wp-content/uploads/2021/07/tripletrap.jpg
ORGANIZER;CN="f-range":MAILTO:info@f-range.jp
END:VEVENT
END:VCALENDAR