BEGIN:VCALENDAR
VERSION:2.0
PRODID:-//f-range 東京表参道の銃砲店 - ECPv6.15.14//NONSGML v1.0//EN
CALSCALE:GREGORIAN
METHOD:PUBLISH
X-ORIGINAL-URL:https://f-range.jp
X-WR-CALDESC:f-range 東京表参道の銃砲店 のイベント
REFRESH-INTERVAL;VALUE=DURATION:PT1H
X-Robots-Tag:noindex
X-PUBLISHED-TTL:PT1H
BEGIN:VTIMEZONE
TZID:Asia/Tokyo
BEGIN:STANDARD
TZOFFSETFROM:+0900
TZOFFSETTO:+0900
TZNAME:JST
DTSTART:20250101T000000
END:STANDARD
END:VTIMEZONE
BEGIN:VEVENT
DTSTART;TZID=Asia/Tokyo:20260418T090000
DTEND;TZID=Asia/Tokyo:20260418T150000
DTSTAMP:20260424T072313
CREATED:20251129T092500Z
LAST-MODIFIED:20260412T221832Z
UID:13193-1776502800-1776524400@f-range.jp
SUMMARY:ガチャっ子☆春の皿祭り 【公式コソ練会】＠友部射撃場2026/4/18(土)
DESCRIPTION:本イベントは、春の皿祭り公式コソ練会(前日練習会とも言う^^;)です。 \n・日時：2026年4月18日（土曜）9:00-15:00 (時間内で自由にお越しください)　※事前エントリー制 \n・場所：友部射撃場トラップ A面(貸切)・トラップB面(フリー使用)・スキート面(フリー使用) \n・種目：トリプルトラップ、ダブル・トラップ、トラップ、シングルスキート \nダブルトラップ(5m) ：40枚 \nトリプルトラップ：5mフロント・5mセンター　各30枚×2＝60枚 \nトラップ(10m) ：25枚　※最初の10枚はストレート \nシングルスキート ：25枚 \n※上記競技内容より、自由に撃ちたいものを撃ちたいだけ撃ってください \n・参加費：実費精算 (翌日の皿祭り本番不参加あるいは本番参加も装弾購入無しの場合は参加費別途5\,000円)\n \n装弾の手配が必要なため、事前エントリーにご協力をお願いします。 \n【参加ポイント付与】\n事前練習会ではポイントが付きません。\n夜に開催される【お肉祭り】まで参加されると、春の皿祭り本番で＋5ポイントのハンデが付与されます\n \n・　射場貸銃あります(別途1日2\,000円) \nSKB 1900(自動)\nBenelli M2(自動)\nchiappa Triple-crown(元折三連銃)\nベレッタASE90他、上下二連もあり \n・　装弾\n \n　　当店標準弾は、7.5号：NSI SUPER VELOCE、9号：インペリアルとなっております。\n指定が無い場合は、上記銘柄にてご用意させていただきます。\nバラ売り対応銘柄は、VELOCE\,FLUO\,S&B\,TT TWO(7.5号のみ)\,インペリアルとなり、その他銘柄については250発単位での販売とさせていただきます。\n \n装弾持込可ですが、撃つ枚数以上の装弾を当日お買い求めのうえ利用をお願いいたします(当日使う弾は持込装弾でOKです)。\n(当日ご購入頂けない場合は参加費＋1\,000円を頂戴し、賞典・各種ポイント付与の対象外とさせていただきます)\n國友銃砲火薬店発行の装弾引換券も使用可能です。\n装弾購入は前日までに要予約。 \n【その他注意事項】\n各種割引キャンペーンとf-range装弾券の併用はできません(國友券は可)。\nガチャっ子射撃会は【完全分煙】です。\n喫煙者と非喫煙者が気持ちよく楽しめる様、皆様のご協力をお願いいたします。\n基本的にはどなたでもご参加いただけるオープン射撃会ですが、当店の判断により参加をご遠慮いただく場合もございますので、予めご了承ください。
URL:https://f-range.jp/event/20260418/
LOCATION:友部射撃場\, 笠間市平町1416-1\, 友部射撃場\, 茨城県\, 3091722\, 日本
CATEGORIES:練習会
ATTACH;FMTTYPE=image/jpeg:https://f-range.jp/wp-content/uploads/2021/07/tripletrap.jpg
ORGANIZER;CN="f-range":MAILTO:info@f-range.jp
END:VEVENT
BEGIN:VEVENT
DTSTART;TZID=Asia/Tokyo:20260524T080000
DTEND;TZID=Asia/Tokyo:20260524T140000
DTSTAMP:20260424T072313
CREATED:20260117T220401Z
LAST-MODIFIED:20260319T003422Z
UID:13445-1779609600-1779631200@f-range.jp
SUMMARY:ガチャっ子練習会＠鹿留射撃場 2026/5/24 (日)
DESCRIPTION:・日時：2026年5月24日（日）8:00-14:00　(射撃開始8時 受付7時～) ※事前エントリー制 \n・場所：鹿留射撃場 トラップ・スキート共用射面 \n・種目：スラッグ速射・精密・ダブルトラップ・トラップ・シングルスキート\n※スラッグは競技内容が変更になる場合があります\n※初心者🔰枠は別メニューでご用意しております\n \nダブルトラップ(5m) ：30枚\nトラップ(7.5m) ：20枚\nトラップ(10m) ：20枚\nシングルスキート：20枚 \n・参加費：11\,000円 \nスラッグ20発(オープンサイトは24発)＋クレー90枚撃ち(最大150発)\n希望される方はスラッグの代わりにエアライフル・装薬ライフルでもOKです \n準備の都合上、事前エントリーをお願いします。 \n【参加ポイント付与】\nガチャっ子1回参加につき1ポイント付与\n有効期間(ポイントカード発行日より2年間)内に50ポイント貯まると250発装弾引換券として使えます\n【早期エントリー特典】\n開催30日前までのエントリーで、早期エントリー2ポイント＋参加1ポイント＝計3ポイント付与\n※早期エントリーでキャンセルした場合、その回と次回早期エントリー分の早期エントリーポイントが付きません。次々回より復活します。\n※装弾購入が無い場合は参加ポイントも早期エントリーポイントも付与されません\n \n・　全ての競技に満射賞(＋3ポイント付与)あり\n・　おかわり自由  (別途精算) \n・　装弾\n　　当店標準弾は、7.5号：NSI SUPER VELOCE、9号：インペリアル、スラッグ：レッドバードとなっております。\n指定が無い場合は、上記銘柄にてご用意させていただきます。\nバラ売り対応銘柄は、VELOCE\,FLUO\,S&B\,TT TWO\,インペリアルとなり、その他銘柄については250発単位での販売とさせていただきます。\n \n持込装弾の利用可ですが、当日撃つ分と同じ数以上は必ず当店でお買い求めをお願いいたします。\n(ご購入頂けない場合は参加費＋2\,000円を頂戴し、賞典・各種ポイント付与の対象外とさせていただきます)\n当店発行装弾券の他に、國友銃砲火薬店発行の装弾引換券が使用可能です。\n装弾購入は前日までに要予約。 \n【その他注意事項】\nガチャっ子射撃会は【完全分煙】です。\n喫煙者と非喫煙者が気持ちよく楽しめる様、皆様のご協力をお願いいたします。\n基本的にはどなたでもご参加いただけるオープン射撃会ですが、当店の判断により参加をご遠慮いただく場合もございますので、予めご了承ください。
URL:https://f-range.jp/event/20260524/
LOCATION:鹿留射撃場\, 鹿留３１０１\, 都留市\, 山梨県\, 4020032\, 日本
CATEGORIES:練習会
ATTACH;FMTTYPE=image/jpeg:https://f-range.jp/wp-content/uploads/2021/07/tripletrap.jpg
ORGANIZER;CN="f-range":MAILTO:info@f-range.jp
END:VEVENT
BEGIN:VEVENT
DTSTART;TZID=Asia/Tokyo:20260606T090000
DTEND;TZID=Asia/Tokyo:20260606T150000
DTSTAMP:20260424T072313
CREATED:20251207T025359Z
LAST-MODIFIED:20260319T003431Z
UID:13210-1780736400-1780758000@f-range.jp
SUMMARY:ガチャっ子☆遠征＠ぐんまジャイアント射撃場2026/6/6(土)
DESCRIPTION:・日時：2026年6月6日(土) 9:00-15:00(受付開始8時～)　※事前エントリー制 \n・場所：ぐんまジャイアント射撃場 トラップB射面 \n・種目：トリプルトラップ・ダブルトラップ・トラップ \nダブルトラップ(5m) ：20枚 \nトリプルトラップ：5mフロント・5mセンター・10mフロント　各30枚×3＝90枚 \nトラップ(10m) ：20枚　※最初の10枚はストレート \n　　　　※競技内容・ルールは変更になる可能性があります\n※初心者🔰枠は別メニューでご用意しております \n・参加費：11\,000円\n \n130枚撃ち \n事前エントリーをお願いします。\n \n【参加ポイント付与】\nガチャっ子1回参加につき1ポイント付与\n有効期間(ポイントカード発行日より2年間)内に50ポイント貯まると250発装弾引換券として使えます \n【早期エントリー特典】\n開催30日前までのエントリーで、早期エントリー2ポイント＋参加1ポイント＝計3ポイント付与\n(早期エントリー1回毎に25発もらえる計算です)\n※早期エントリーでキャンセルした場合、その回と次回早期エントリー分の早期エントリーポイントが付きません。次々回より復活します。\n※装弾購入が無い場合は参加ポイントも早期エントリーポイントも付与されません \n【FIOCCHI特典】\nぐんまジャイアントでの開催に限り、(当日当店購入の)FIOCCHI装弾使用(クレーの枚数以上)の方には、＋2ポイント付与いたします \n・　全ての競技に満射賞(＋3ポイント付与)あり\n・　おかわり自由  (別途精算) \n・　装弾\n　　当店標準弾は、7.5号：NSI SUPER VELOCE、9号：インペリアルとなっております。\n指定が無い場合は、上記銘柄にてご用意させていただきます。\nバラ売り対応銘柄は、VELOCE\,FLUO\,S&B\,TT TWO\,インペリアルとなり、その他銘柄については250発単位での販売とさせていただきます。\n \n装弾持込可ですが、130発以上は当日お買い求めのうえ利用をお願いいたします(当日使う弾は持込装弾でOKです)。\n(当日ご購入頂けない場合は参加費＋2\,000円を頂戴し、賞典・各種ポイント付与の対象外とさせていただきます)\n國友銃砲火薬店発行の装弾引換券も使用可能です。\n装弾購入は前日までに要予約。 \n【その他注意事項】\n各種割引キャンペーンとf-range装弾券の併用はできません(國友券は可)。\nガチャっ子射撃会は【完全分煙】です。\n喫煙者と非喫煙者が気持ちよく楽しめる様、皆様のご協力をお願いいたします。
URL:https://f-range.jp/event/20260606/
LOCATION:ぐんまジャイアント射撃場\, 桑原６０４\, 富岡市\, 群馬県\, 370-2301\, Japan
CATEGORIES:練習会,遠征
ATTACH;FMTTYPE=image/jpeg:https://f-range.jp/wp-content/uploads/2021/07/tripletrap.jpg
ORGANIZER;CN="f-range":MAILTO:info@f-range.jp
END:VEVENT
BEGIN:VEVENT
DTSTART;TZID=Asia/Tokyo:20260628T074500
DTEND;TZID=Asia/Tokyo:20260628T150000
DTSTAMP:20260424T072313
CREATED:20260117T220619Z
LAST-MODIFIED:20260319T003444Z
UID:13447-1782632700-1782658800@f-range.jp
SUMMARY:ガチャっ子練習会＠友部射撃場2026/6/28(日)
DESCRIPTION:・日時：2026年6月28日（日）7:45-16:00 (06:45受付開始)　※事前エントリー制 \n・場所：友部射撃場トラップ A面・スキート面 \n・種目：トリプルトラップ、ダブル・トラップ、トラップ、シングルスキート \nダブルトラップ(5m) ：40枚 \nトリプルトラップ：5mフロント・5mセンター　各30枚×2＝60枚 \nトラップ(10m) ：25枚　※最初の10枚はストレート \nシングルスキート ：25枚 \n※競技内容は変更になる可能性があります\n※初心者🔰枠は別メニューでご用意しております \n・参加費：11\,000円\n \n150枚撃ち\n準備の都合上事前エントリーをお願いします。 \n【参加ポイント付与】\nガチャっ子1回参加につき1ポイント付与\n有効期間(ポイントカード発行日より2年間)内に50ポイント貯まると250発装弾引換券として使えます\n【早期エントリー特典】\n開催30日前までのエントリーで、早期エントリー2ポイント＋参加1ポイント＝計3ポイント付与\n※早期エントリーでキャンセルした場合、その回と次回早期エントリー分の早期エントリーポイントが付きません。次々回より復活します。\n※装弾購入が無い場合は参加ポイントも早期エントリーポイントも付与されません\n \n・　全ての競技に満射賞(＋3ポイント付与)あり\n・　おかわり自由  (別途精算)\n・　射場貸銃あります(別途1日2\,000円) \nSKB 1900(自動)\nBenelli M2(自動)\nchiappa Triple-crown(元折三連銃)\nベレッタASE90他、上下二連もあり \n・　装弾\n　　当店標準弾は、7.5号：NSI SUPER VELOCE、9号：インペリアルとなっております。\n指定が無い場合は、上記銘柄にてご用意させていただきます。\nバラ売り対応銘柄は、VELOCE\,FLUO\,S&B\,TT TWO\,インペリアルとなり、その他銘柄については250発単位での販売とさせていただきます。\n \n装弾持込可ですが、150発以上は当日お買い求めのうえ利用をお願いいたします(当日使う弾は持込装弾でOKです)。\n(当日ご購入頂けない場合は参加費＋2\,000円を頂戴し、賞典・各種ポイント付与の対象外とさせていただきます)\n國友銃砲火薬店発行の装弾引換券も使用可能です。\n装弾購入は前日までに要予約。 \n【その他注意事項】\n各種割引キャンペーンとf-range装弾券の併用はできません(國友券は可)。\nガチャっ子射撃会は【完全分煙】です。\n喫煙者と非喫煙者が気持ちよく楽しめる様、皆様のご協力をお願いいたします。\n基本的にはどなたでもご参加いただけるオープン射撃会ですが、当店の判断により参加をご遠慮いただく場合もございますので、予めご了承ください。
URL:https://f-range.jp/event/20260628/
LOCATION:友部射撃場\, 笠間市平町1416-1\, 友部射撃場\, 茨城県\, 3091722\, 日本
CATEGORIES:練習会
ATTACH;FMTTYPE=image/jpeg:https://f-range.jp/wp-content/uploads/2021/07/tripletrap.jpg
ORGANIZER;CN="f-range":MAILTO:info@f-range.jp
END:VEVENT
BEGIN:VEVENT
DTSTART;TZID=Asia/Tokyo:20260726T074500
DTEND;TZID=Asia/Tokyo:20260726T150000
DTSTAMP:20260424T072313
CREATED:20260117T221513Z
LAST-MODIFIED:20260319T003511Z
UID:13453-1785051900-1785078000@f-range.jp
SUMMARY:ガチャっ子練習会＠友部射撃場2026/7/26(日)
DESCRIPTION:・日時：2026年7月26日（日）7:45-16:00 (06:45受付開始)　※事前エントリー制 \n・場所：友部射撃場トラップ A面 \n・種目：トリプルトラップ、ダブルトラップ、トラップ \nダブルトラップ(5m) ：40枚\nトリプルトラップ：5mフロント・5mセンター・10mフロント　各30枚×3＝90枚\nトラップ(10m) ：20枚　※最初の10枚はストレート\n※競技内容は変更になる可能性があります\n※初心者🔰枠は別メニューでご用意しております \n・参加費：11\,000円\n \n150枚撃ち\n準備の都合上、必ず事前エントリーをお願いします。 \n【参加ポイント付与】\nガチャっ子1回参加につき1ポイント付与\n有効期間(ポイントカード発行日より2年間)内に50ポイント貯まると250発装弾引換券として使えます \n【早期エントリー特典】\n開催30日前までのエントリーで、早期エントリー2ポイント＋参加1ポイント＝計3ポイント付与\n※早期エントリーでキャンセルした場合、その回と次回早期エントリー分の早期エントリーポイントが付きません。次々回より復活します。\n※装弾購入が無い場合は参加ポイントも早期エントリーポイントも付与されません\n \n・　全ての競技に満射賞(＋3ポイント付与)あり\n・　おかわり自由  (別途精算)\n・　射場貸銃あります(別途1日2\,000円) \nSKB 1900(自動)\nBenelli M2(自動)\nchiappa Triple-crown(元折三連銃)\nベレッタASE90他、上下二連もあり \n・　装弾\n　　当店標準弾は、7.5号：NSI SUPER VELOCE、9号：インペリアルとなっております。\n指定が無い場合は、上記銘柄にてご用意させていただきます。\nバラ売り対応銘柄は、VELOCE\,FLUO\,S&B\,TT TWO\,インペリアルとなり、その他銘柄については250発単位での販売とさせていただきます。\n \n持込装弾の利用可ですが、当日撃つ分と同じ数以上は必ず当店でお買い求めをお願いいたします。\n(ご購入頂けない場合は参加費＋2\,000円を頂戴し、賞典・各種ポイント付与の対象外とさせていただきます)\n当店発行装弾券の他に、國友銃砲火薬店発行の装弾引換券が使用可能です。\n装弾購入は前日までに要予約。 \n【その他注意事項】\nガチャっ子射撃会は【完全分煙】です。\n喫煙者と非喫煙者が気持ちよく楽しめる様、皆様のご協力をお願いいたします。\n基本的にはどなたでもご参加いただけるオープン射撃会ですが、当店の判断により参加をご遠慮いただく場合もございますので、予めご了承ください。
URL:https://f-range.jp/event/20260726/
LOCATION:友部射撃場\, 笠間市平町1416-1\, 友部射撃場\, 茨城県\, 3091722\, 日本
CATEGORIES:練習会
ATTACH;FMTTYPE=image/jpeg:https://f-range.jp/wp-content/uploads/2021/07/tripletrap.jpg
ORGANIZER;CN="f-range":MAILTO:info@f-range.jp
END:VEVENT
BEGIN:VEVENT
DTSTART;TZID=Asia/Tokyo:20260801T080000
DTEND;TZID=Asia/Tokyo:20260801T140000
DTSTAMP:20260424T072313
CREATED:20260117T221646Z
LAST-MODIFIED:20260319T003520Z
UID:13455-1785571200-1785592800@f-range.jp
SUMMARY:ガチャっ子練習会＠鹿留射撃場 2026/8/1 (土)
DESCRIPTION:・日時：2026年8月1日（土）8:00-14:00　(射撃開始8時 受付7時～) ※事前エントリー制 \n・場所：鹿留射撃場 トラップ・スキート共用射面 \n・種目：スラッグ速射・精密・ダブルトラップ・トラップ・シングルスキート\n※スラッグは競技内容が変更になる場合があります\n※初心者🔰枠は別メニューでご用意しております\n \nダブルトラップ(5m) ：30枚\nトラップ(7.5m) ：20枚\nトラップ(10m) ：20枚\nシングルスキート：20枚 \n・参加費：11\,000円 \nスラッグ20発(オープンサイトは24発)＋クレー90枚撃ち(最大150発)\n希望される方はスラッグの代わりにエアライフル・装薬ライフルでもOKです \n準備の都合上、事前エントリーをお願いします。 \n【参加ポイント付与】\nガチャっ子1回参加につき1ポイント付与\n有効期間(ポイントカード発行日より2年間)内に50ポイント貯まると250発装弾引換券として使えます\n【早期エントリー特典】\n開催30日前までのエントリーで、早期エントリー2ポイント＋参加1ポイント＝計3ポイント付与\n※早期エントリーでキャンセルした場合、その回と次回早期エントリー分の早期エントリーポイントが付きません。次々回より復活します。\n※装弾購入が無い場合は参加ポイントも早期エントリーポイントも付与されません\n \n・　全ての競技に満射賞(＋3ポイント付与)あり\n・　おかわり自由  (別途精算) \n・　装弾\n　　当店標準弾は、7.5号：NSI SUPER VELOCE、9号：インペリアル、スラッグ：レッドバードとなっております。\n指定が無い場合は、上記銘柄にてご用意させていただきます。\nバラ売り対応銘柄は、VELOCE\,FLUO\,S&B\,TT TWO\,インペリアルとなり、その他銘柄については250発単位での販売とさせていただきます。\n \n持込装弾の利用可ですが、当日撃つ分と同じ数以上は必ず当店でお買い求めをお願いいたします。\n(ご購入頂けない場合は参加費＋2\,000円を頂戴し、賞典・各種ポイント付与の対象外とさせていただきます)\n当店発行装弾券の他に、國友銃砲火薬店発行の装弾引換券が使用可能です。\n装弾購入は前日までに要予約。 \n【その他注意事項】\nガチャっ子射撃会は【完全分煙】です。\n喫煙者と非喫煙者が気持ちよく楽しめる様、皆様のご協力をお願いいたします。\n基本的にはどなたでもご参加いただけるオープン射撃会ですが、当店の判断により参加をご遠慮いただく場合もございますので、予めご了承ください。
URL:https://f-range.jp/event/20260801/
LOCATION:鹿留射撃場\, 鹿留３１０１\, 都留市\, 山梨県\, 4020032\, 日本
CATEGORIES:練習会
ATTACH;FMTTYPE=image/jpeg:https://f-range.jp/wp-content/uploads/2021/07/tripletrap.jpg
ORGANIZER;CN="f-range":MAILTO:info@f-range.jp
END:VEVENT
BEGIN:VEVENT
DTSTART;TZID=Asia/Tokyo:20260823T074500
DTEND;TZID=Asia/Tokyo:20260823T150000
DTSTAMP:20260424T072313
CREATED:20260117T222936Z
LAST-MODIFIED:20260319T003550Z
UID:13466-1787471100-1787497200@f-range.jp
SUMMARY:ガチャっ子練習会＠友部射撃場2026/8/23(日)
DESCRIPTION:・日時：2026年8月23日（日）7:45-16:00 (06:45受付開始)　※事前エントリー制 \n・場所：友部射撃場トラップ A面 \n・種目：トリプルトラップ、ダブルトラップ、トラップ \nダブルトラップ(5m) ：40枚\nトリプルトラップ：5mフロント・5mセンター・10mフロント　各30枚×3＝90枚\nトラップ(10m) ：20枚　※最初の10枚はストレート\n※競技内容は変更になる可能性があります\n※初心者🔰枠は別メニューでご用意しております \n・参加費：11\,000円\n \n150枚撃ち\n準備の都合上、必ず事前エントリーをお願いします。 \n【参加ポイント付与】\nガチャっ子1回参加につき1ポイント付与\n有効期間(ポイントカード発行日より2年間)内に50ポイント貯まると250発装弾引換券として使えます \n【早期エントリー特典】\n開催30日前までのエントリーで、早期エントリー2ポイント＋参加1ポイント＝計3ポイント付与\n※早期エントリーでキャンセルした場合、その回と次回早期エントリー分の早期エントリーポイントが付きません。次々回より復活します。\n※装弾購入が無い場合は参加ポイントも早期エントリーポイントも付与されません\n \n・　全ての競技に満射賞(＋3ポイント付与)あり\n・　おかわり自由  (別途精算)\n・　射場貸銃あります(別途1日2\,000円) \nSKB 1900(自動)\nBenelli M2(自動)\nchiappa Triple-crown(元折三連銃)\nベレッタASE90他、上下二連もあり \n・　装弾\n　　当店標準弾は、7.5号：NSI SUPER VELOCE、9号：インペリアルとなっております。\n指定が無い場合は、上記銘柄にてご用意させていただきます。\nバラ売り対応銘柄は、VELOCE\,FLUO\,S&B\,TT TWO\,インペリアルとなり、その他銘柄については250発単位での販売とさせていただきます。\n \n持込装弾の利用可ですが、当日撃つ分と同じ数以上は必ず当店でお買い求めをお願いいたします。\n(ご購入頂けない場合は参加費＋2\,000円を頂戴し、賞典・各種ポイント付与の対象外とさせていただきます)\n当店発行装弾券の他に、國友銃砲火薬店発行の装弾引換券が使用可能です。\n装弾購入は前日までに要予約。 \n【その他注意事項】\nガチャっ子射撃会は【完全分煙】です。\n喫煙者と非喫煙者が気持ちよく楽しめる様、皆様のご協力をお願いいたします。\n基本的にはどなたでもご参加いただけるオープン射撃会ですが、当店の判断により参加をご遠慮いただく場合もございますので、予めご了承ください。
URL:https://f-range.jp/event/20260823/
LOCATION:友部射撃場\, 笠間市平町1416-1\, 友部射撃場\, 茨城県\, 3091722\, 日本
CATEGORIES:練習会
ATTACH;FMTTYPE=image/jpeg:https://f-range.jp/wp-content/uploads/2021/07/tripletrap.jpg
ORGANIZER;CN="f-range":MAILTO:info@f-range.jp
END:VEVENT
BEGIN:VEVENT
DTSTART;TZID=Asia/Tokyo:20260905T090000
DTEND;TZID=Asia/Tokyo:20260905T150000
DTSTAMP:20260424T072313
CREATED:20260117T223423Z
LAST-MODIFIED:20260319T003608Z
UID:13470-1788598800-1788620400@f-range.jp
SUMMARY:ガチャっ子☆秋の皿祭り 【公式コソ練会】＠友部射撃場2026/9/5(土)
DESCRIPTION:本イベントは、秋の皿祭り公式コソ練会(前日練習会とも言う^^;)です。 \n・日時：2026年9月5日（土曜）9:00-15:00 (時間内で自由にお越しください)　※事前エントリー制 \n・場所：友部射撃場トラップ A面(貸切)・トラップB面(フリー使用)・スキート面(フリー使用) \n・種目：トリプルトラップ、ダブル・トラップ、トラップ、シングルスキート \nダブルトラップ(5m) ：30枚 \nトリプルトラップ：5mセンター・10mセンター　各30枚×2＝60枚 \nトラップ(10m) ：20枚　※最初の10枚はストレート \nシングルスキート ：20枚 \n※上記競技内容より、自由に撃ちたいものを撃ちたいだけ撃ってください \n・参加費：実費精算 (翌日の皿祭り本番不参加の場合は参加費別途5\,000円)\n \n装弾の手配が必要なため、事前エントリーにご協力をお願いします。 \n【参加ポイント付与】\n事前練習会ではポイントが付きません。\n夜に開催される【お肉祭り】まで参加されると、春の皿祭り本番で＋5ポイントのハンデが付与されます\nお肉祭り参加の方は、コメント欄にその旨お書きください。 \n・　射場貸銃あります(別途1日2\,000円) \nSKB 1900(自動)\nBenelli M2(自動)\nchiappa Triple-crown(元折三連銃)\nベレッタASE90他、上下二連もあり \n・　装弾\n \n　　当店標準弾は、7.5号：NSI SUPER VELOCE、9号：インペリアルとなっております。\n指定が無い場合は、上記銘柄にてご用意させていただきます。\nバラ売り対応銘柄は、VELOCE\,FLUO\,S&B\,TT TWO(7.5号のみ)\,インペリアルとなり、その他銘柄については250発単位での販売とさせていただきます。\n \n装弾持込可ですが、撃つ枚数以上の装弾を当日お買い求めのうえ利用をお願いいたします(当日使う弾は持込装弾でOKです)。\n(ご購入頂けない場合は参加費＋2\,000円を頂戴し、賞典・各種ポイント付与の対象外とさせていただきます)\n國友銃砲火薬店発行の装弾引換券も使用可能です。\n装弾購入は前日までに要予約。 \n【その他注意事項】\n各種割引キャンペーンとf-range装弾券の併用はできません(國友券は可)。\nガチャっ子射撃会は【完全分煙】です。\n喫煙者と非喫煙者が気持ちよく楽しめる様、皆様のご協力をお願いいたします。\n基本的にはどなたでもご参加いただけるオープン射撃会ですが、当店の判断により参加をご遠慮いただく場合もございますので、予めご了承ください。
URL:https://f-range.jp/event/20260905/
LOCATION:友部射撃場\, 笠間市平町1416-1\, 友部射撃場\, 茨城県\, 3091722\, 日本
CATEGORIES:練習会
ATTACH;FMTTYPE=image/jpeg:https://f-range.jp/wp-content/uploads/2021/07/tripletrap.jpg
ORGANIZER;CN="f-range":MAILTO:info@f-range.jp
END:VEVENT
BEGIN:VEVENT
DTSTART;TZID=Asia/Tokyo:20261004T074500
DTEND;TZID=Asia/Tokyo:20261004T150000
DTSTAMP:20260424T072313
CREATED:20260117T223100Z
LAST-MODIFIED:20260319T003704Z
UID:13467-1791099900-1791126000@f-range.jp
SUMMARY:ガチャっ子練習会＠友部射撃場2026/10/4(日)
DESCRIPTION:・日時：2026年10月4日（日）7:45-16:00 (06:45受付開始)　※事前エントリー制 \n・場所：友部射撃場トラップ A面 \n・種目：トリプルトラップ、ダブルトラップ、トラップ \nダブルトラップ(5m) ：40枚\nトリプルトラップ：5mフロント・5mセンター・10mフロント　各30枚×3＝90枚\nトラップ(10m) ：20枚　※最初の10枚はストレート\n※競技内容は変更になる可能性があります\n※初心者🔰枠は別メニューでご用意しております \n・参加費：11\,000円\n \n150枚撃ち\n準備の都合上、必ず事前エントリーをお願いします。 \n【参加ポイント付与】\nガチャっ子1回参加につき1ポイント付与\n有効期間(ポイントカード発行日より2年間)内に50ポイント貯まると250発装弾引換券として使えます \n【早期エントリー特典】\n開催30日前までのエントリーで、早期エントリー2ポイント＋参加1ポイント＝計3ポイント付与\n※早期エントリーでキャンセルした場合、その回と次回早期エントリー分の早期エントリーポイントが付きません。次々回より復活します。\n※装弾購入が無い場合は参加ポイントも早期エントリーポイントも付与されません\n \n・　全ての競技に満射賞(＋3ポイント付与)あり\n・　おかわり自由  (別途精算)\n・　射場貸銃あります(別途1日2\,000円) \nSKB 1900(自動)\nBenelli M2(自動)\nchiappa Triple-crown(元折三連銃)\nベレッタASE90他、上下二連もあり \n・　装弾\n　　当店標準弾は、7.5号：NSI SUPER VELOCE、9号：インペリアルとなっております。\n指定が無い場合は、上記銘柄にてご用意させていただきます。\nバラ売り対応銘柄は、VELOCE\,FLUO\,S&B\,TT TWO\,インペリアルとなり、その他銘柄については250発単位での販売とさせていただきます。\n \n持込装弾の利用可ですが、当日撃つ分と同じ数以上は必ず当店でお買い求めをお願いいたします。\n(ご購入頂けない場合は参加費＋2\,000円を頂戴し、賞典・各種ポイント付与の対象外とさせていただきます)\n当店発行装弾券の他に、國友銃砲火薬店発行の装弾引換券が使用可能です。\n装弾購入は前日までに要予約。 \n【その他注意事項】\nガチャっ子射撃会は【完全分煙】です。\n喫煙者と非喫煙者が気持ちよく楽しめる様、皆様のご協力をお願いいたします。\n基本的にはどなたでもご参加いただけるオープン射撃会ですが、当店の判断により参加をご遠慮いただく場合もございますので、予めご了承ください。
URL:https://f-range.jp/event/20261004/
LOCATION:友部射撃場\, 笠間市平町1416-1\, 友部射撃場\, 茨城県\, 3091722\, 日本
CATEGORIES:練習会
ATTACH;FMTTYPE=image/jpeg:https://f-range.jp/wp-content/uploads/2021/07/tripletrap.jpg
ORGANIZER;CN="f-range":MAILTO:info@f-range.jp
END:VEVENT
BEGIN:VEVENT
DTSTART;TZID=Asia/Tokyo:20261108T074500
DTEND;TZID=Asia/Tokyo:20261108T150000
DTSTAMP:20260424T072313
CREATED:20260117T222814Z
LAST-MODIFIED:20260319T003736Z
UID:13464-1794123900-1794150000@f-range.jp
SUMMARY:ガチャっ子練習会＠友部射撃場2026/11/8(日)
DESCRIPTION:・日時：2026年6月28日（日）7:45-16:00 (06:45受付開始)　※事前エントリー制 \n・場所：友部射撃場トラップ A面・スキート面 \n・種目：トリプルトラップ、ダブル・トラップ、トラップ、シングルスキート \nダブルトラップ(5m) ：40枚 \nトリプルトラップ：5mフロント・5mセンター　各30枚×2＝60枚 \nトラップ(10m) ：25枚　※最初の10枚はストレート \nシングルスキート ：25枚 \n※競技内容は変更になる可能性があります\n※初心者🔰枠は別メニューでご用意しております \n・参加費：11\,000円\n \n150枚撃ち\n準備の都合上事前エントリーをお願いします。 \n【参加ポイント付与】\nガチャっ子1回参加につき1ポイント付与\n有効期間(ポイントカード発行日より2年間)内に50ポイント貯まると250発装弾引換券として使えます\n【早期エントリー特典】\n開催30日前までのエントリーで、早期エントリー2ポイント＋参加1ポイント＝計3ポイント付与\n※早期エントリーでキャンセルした場合、その回と次回早期エントリー分の早期エントリーポイントが付きません。次々回より復活します。\n※装弾購入が無い場合は参加ポイントも早期エントリーポイントも付与されません\n \n・　全ての競技に満射賞(＋3ポイント付与)あり\n・　おかわり自由  (別途精算)\n・　射場貸銃あります(別途1日2\,000円) \nSKB 1900(自動)\nBenelli M2(自動)\nchiappa Triple-crown(元折三連銃)\nベレッタASE90他、上下二連もあり \n・　装弾\n　　当店標準弾は、7.5号：NSI SUPER VELOCE、9号：インペリアルとなっております。\n指定が無い場合は、上記銘柄にてご用意させていただきます。\nバラ売り対応銘柄は、VELOCE\,FLUO\,S&B\,TT TWO\,インペリアルとなり、その他銘柄については250発単位での販売とさせていただきます。\n \n装弾持込可ですが、150発以上は当日お買い求めのうえ利用をお願いいたします(当日使う弾は持込装弾でOKです)。\n(ご購入頂けない場合は参加費＋2\,000円を頂戴し、賞典・各種ポイント付与の対象外とさせていただきます)\n國友銃砲火薬店発行の装弾引換券も使用可能です。\n装弾購入は前日までに要予約。 \n【その他注意事項】\n各種割引キャンペーンとf-range装弾券の併用はできません(國友券は可)。\nガチャっ子射撃会は【完全分煙】です。\n喫煙者と非喫煙者が気持ちよく楽しめる様、皆様のご協力をお願いいたします。\n基本的にはどなたでもご参加いただけるオープン射撃会ですが、当店の判断により参加をご遠慮いただく場合もございますので、予めご了承ください。
URL:https://f-range.jp/event/20261108/
LOCATION:友部射撃場\, 笠間市平町1416-1\, 友部射撃場\, 茨城県\, 3091722\, 日本
CATEGORIES:練習会
ATTACH;FMTTYPE=image/jpeg:https://f-range.jp/wp-content/uploads/2021/07/tripletrap.jpg
ORGANIZER;CN="f-range":MAILTO:info@f-range.jp
END:VEVENT
BEGIN:VEVENT
DTSTART;TZID=Asia/Tokyo:20261121T080000
DTEND;TZID=Asia/Tokyo:20261121T140000
DTSTAMP:20260424T072313
CREATED:20260117T221747Z
LAST-MODIFIED:20260319T003747Z
UID:13456-1795248000-1795269600@f-range.jp
SUMMARY:ガチャっ子練習会＠鹿留射撃場 2026/11/21 (土)
DESCRIPTION:・日時：2026年11月21日（土）8:00-14:00　(射撃開始8時 受付7時～) ※事前エントリー制 \n・場所：鹿留射撃場 トラップ・スキート共用射面 \n・種目：スラッグ速射・精密・ダブルトラップ・トラップ・シングルスキート\n※スラッグは競技内容が変更になる場合があります\n※初心者🔰枠は別メニューでご用意しております\n \nダブルトラップ(5m) ：30枚\nトラップ(7.5m) ：20枚\nトラップ(10m) ：20枚\nシングルスキート：20枚 \n・参加費：11\,000円 \nスラッグ20発(オープンサイトは24発)＋クレー90枚撃ち(最大150発)\n希望される方はスラッグの代わりにエアライフル・装薬ライフルでもOKです \n準備の都合上、事前エントリーをお願いします。 \n【参加ポイント付与】\nガチャっ子1回参加につき1ポイント付与\n有効期間(ポイントカード発行日より2年間)内に50ポイント貯まると250発装弾引換券として使えます\n【早期エントリー特典】\n開催30日前までのエントリーで、早期エントリー2ポイント＋参加1ポイント＝計3ポイント付与\n※早期エントリーでキャンセルした場合、その回と次回早期エントリー分の早期エントリーポイントが付きません。次々回より復活します。\n※装弾購入が無い場合は参加ポイントも早期エントリーポイントも付与されません\n \n・　全ての競技に満射賞(＋3ポイント付与)あり\n・　おかわり自由  (別途精算) \n・　装弾\n　　当店標準弾は、7.5号：NSI SUPER VELOCE、9号：インペリアル、スラッグ：レッドバードとなっております。\n指定が無い場合は、上記銘柄にてご用意させていただきます。\nバラ売り対応銘柄は、VELOCE\,FLUO\,S&B\,TT TWO\,インペリアルとなり、その他銘柄については250発単位での販売とさせていただきます。\n \n持込装弾の利用可ですが、当日撃つ分と同じ数以上は必ず当店でお買い求めをお願いいたします。\n(ご購入頂けない場合は参加費＋2\,000円を頂戴し、賞典・各種ポイント付与の対象外とさせていただきます)\n当店発行装弾券の他に、國友銃砲火薬店発行の装弾引換券が使用可能です。\n装弾購入は前日までに要予約。 \n【その他注意事項】\nガチャっ子射撃会は【完全分煙】です。\n喫煙者と非喫煙者が気持ちよく楽しめる様、皆様のご協力をお願いいたします。\n基本的にはどなたでもご参加いただけるオープン射撃会ですが、当店の判断により参加をご遠慮いただく場合もございますので、予めご了承ください。
URL:https://f-range.jp/event/20261121/
LOCATION:鹿留射撃場\, 鹿留３１０１\, 都留市\, 山梨県\, 4020032\, 日本
CATEGORIES:練習会
ATTACH;FMTTYPE=image/jpeg:https://f-range.jp/wp-content/uploads/2021/07/tripletrap.jpg
ORGANIZER;CN="f-range":MAILTO:info@f-range.jp
END:VEVENT
BEGIN:VEVENT
DTSTART;TZID=Asia/Tokyo:20261205T080000
DTEND;TZID=Asia/Tokyo:20261205T140000
DTSTAMP:20260424T072313
CREATED:20260117T221833Z
LAST-MODIFIED:20260319T003757Z
UID:13457-1796457600-1796479200@f-range.jp
SUMMARY:ガチャっ子練習会＠鹿留射撃場 2026/12/5 (土)
DESCRIPTION:・日時：2026年12月5日（土）8:00-14:00　(射撃開始8時 受付7時～) ※事前エントリー制 \n・場所：鹿留射撃場 トラップ・スキート共用射面 \n・種目：スラッグ速射・精密・ダブルトラップ・トラップ・シングルスキート\n※スラッグは競技内容が変更になる場合があります\n※初心者🔰枠は別メニューでご用意しております\n \nダブルトラップ(5m) ：30枚\nトラップ(7.5m) ：20枚\nトラップ(10m) ：20枚\nシングルスキート：20枚 \n・参加費：11\,000円 \nスラッグ20発(オープンサイトは24発)＋クレー90枚撃ち(最大150発)\n希望される方はスラッグの代わりにエアライフル・装薬ライフルでもOKです \n準備の都合上、事前エントリーをお願いします。 \n【参加ポイント付与】\nガチャっ子1回参加につき1ポイント付与\n有効期間(ポイントカード発行日より2年間)内に50ポイント貯まると250発装弾引換券として使えます\n【早期エントリー特典】\n開催30日前までのエントリーで、早期エントリー2ポイント＋参加1ポイント＝計3ポイント付与\n※早期エントリーでキャンセルした場合、その回と次回早期エントリー分の早期エントリーポイントが付きません。次々回より復活します。\n※装弾購入が無い場合は参加ポイントも早期エントリーポイントも付与されません\n \n・　全ての競技に満射賞(＋3ポイント付与)あり\n・　おかわり自由  (別途精算) \n・　装弾\n　　当店標準弾は、7.5号：NSI SUPER VELOCE、9号：インペリアル、スラッグ：レッドバードとなっております。\n指定が無い場合は、上記銘柄にてご用意させていただきます。\nバラ売り対応銘柄は、VELOCE\,FLUO\,S&B\,TT TWO\,インペリアルとなり、その他銘柄については250発単位での販売とさせていただきます。\n \n持込装弾の利用可ですが、当日撃つ分と同じ数以上は必ず当店でお買い求めをお願いいたします。\n(ご購入頂けない場合は参加費＋2\,000円を頂戴し、賞典・各種ポイント付与の対象外とさせていただきます)\n当店発行装弾券の他に、國友銃砲火薬店発行の装弾引換券が使用可能です。\n装弾購入は前日までに要予約。 \n【その他注意事項】\nガチャっ子射撃会は【完全分煙】です。\n喫煙者と非喫煙者が気持ちよく楽しめる様、皆様のご協力をお願いいたします。\n基本的にはどなたでもご参加いただけるオープン射撃会ですが、当店の判断により参加をご遠慮いただく場合もございますので、予めご了承ください。
URL:https://f-range.jp/event/20261205/
LOCATION:鹿留射撃場\, 鹿留３１０１\, 都留市\, 山梨県\, 4020032\, 日本
CATEGORIES:練習会
ATTACH;FMTTYPE=image/jpeg:https://f-range.jp/wp-content/uploads/2021/07/tripletrap.jpg
ORGANIZER;CN="f-range":MAILTO:info@f-range.jp
END:VEVENT
BEGIN:VEVENT
DTSTART;TZID=Asia/Tokyo:20261212T074500
DTEND;TZID=Asia/Tokyo:20261212T150000
DTSTAMP:20260424T072313
CREATED:20260117T222048Z
LAST-MODIFIED:20260319T003809Z
UID:13462-1797061500-1797087600@f-range.jp
SUMMARY:ガチャっ子☆納会＠友部射撃場2026/12/12(土)
DESCRIPTION:・日時：2025年12月12日（土）7:45-16:00 (06:45受付開始)　※事前エントリー制 \n・場所：友部射撃場トラップ A面 \n・種目：トリプルトラップ、ダブル・トラップ、トラップ \nダブルトラップ(5m) ：40枚\nトリプルトラップ：5mセンター・10mセンター　各30枚×2＝60枚\nトラップ(10m) ：25枚　※最初の10枚はストレート\nトラップ(15m) ：25枚　※最初の10枚はストレート \n※競技内容は変更になる可能性があります\n※初心者🔰枠は別メニューでご用意しております \n・参加費：11\,000円(昼食付)\n \n150枚撃ち \n昼食の事前手配が必要なため、事前エントリーをお願いします。 \n【参加ポイント付与】\nガチャっ子1回参加につき1ポイント付与\n有効期間(ポイントカード発行日より2年間)内に50ポイント貯まると250発装弾引換券として使えます \n【早期エントリー特典】\n開催30日前までのエントリーで、早期エントリー2ポイント＋参加1ポイント＝計3ポイント付与\n※早期エントリーでキャンセルした場合、その回と次回早期エントリー分の早期エントリーポイントが付きません。次々回より復活します。\n※装弾購入が無い場合は参加ポイントも早期エントリーポイントも付与されません \n【納会参加特典】\n参加者全員に参加賞あり。\n年間最多出席の方へ記念品贈呈します。 \n・　全ての競技に満射賞(＋3ポイント付与)あり\n・　おかわり自由  (別途精算)\n・　射場貸銃あります(別途1日2\,000円) \nSKB 1900(自動)\nBenelli M2(自動)\nchiappa Triple-crown(元折三連銃)\nベレッタASE90他、上下二連もあり \n・　装弾\n　　当店標準弾は、7.5号：NSI SUPER VELOCE、9号：インペリアルとなっております。\n指定が無い場合は、上記銘柄にてご用意させていただきます。\nバラ売り対応銘柄は、VELOCE\,FLUO\,S&B\,TT TWO\,インペリアルとなり、その他銘柄については250発単位での販売とさせていただきます。\n \n持込装弾の利用可ですが、当日撃つ分と同じ数以上は必ず当店でお買い求めをお願いいたします。\n(ご購入頂けない場合は参加費＋2\,000円を頂戴し、賞典・各種ポイント付与の対象外とさせていただきます)\n当店発行装弾券の他に、國友銃砲火薬店発行の装弾引換券が使用可能です。\n装弾購入は前日までに要予約。 \n【その他注意事項】\nガチャっ子射撃会は【完全分煙】です。\n喫煙者と非喫煙者が気持ちよく楽しめる様、皆様のご協力をお願いいたします。\n基本的にはどなたでもご参加いただけるオープン射撃会ですが、当店の判断により参加をご遠慮いただく場合もございますので、予めご了承ください。
URL:https://f-range.jp/event/20261212/
LOCATION:友部射撃場\, 笠間市平町1416-1\, 友部射撃場\, 茨城県\, 3091722\, 日本
CATEGORIES:練習会
ATTACH;FMTTYPE=image/jpeg:https://f-range.jp/wp-content/uploads/2021/07/tripletrap.jpg
ORGANIZER;CN="f-range":MAILTO:info@f-range.jp
END:VEVENT
END:VCALENDAR