BEGIN:VCALENDAR
VERSION:2.0
PRODID:-//f-range 東京表参道の銃砲店 - ECPv6.15.14//NONSGML v1.0//EN
CALSCALE:GREGORIAN
METHOD:PUBLISH
X-WR-CALNAME:f-range 東京表参道の銃砲店
X-ORIGINAL-URL:https://f-range.jp
X-WR-CALDESC:f-range 東京表参道の銃砲店 のイベント
REFRESH-INTERVAL;VALUE=DURATION:PT1H
X-Robots-Tag:noindex
X-PUBLISHED-TTL:PT1H
BEGIN:VTIMEZONE
TZID:Asia/Tokyo
BEGIN:STANDARD
TZOFFSETFROM:+0900
TZOFFSETTO:+0900
TZNAME:JST
DTSTART:20200101T000000
END:STANDARD
END:VTIMEZONE
BEGIN:VEVENT
DTSTART;TZID=Asia/Tokyo:20230128T080000
DTEND;TZID=Asia/Tokyo:20230128T170000
DTSTAMP:20260424T071523
CREATED:20221124T023228Z
LAST-MODIFIED:20221228T044611Z
UID:4017-1674892800-1674925200@f-range.jp
SUMMARY:ガチャっ子練習会(2023初撃ち)＠友部射撃場2023/1/28(土)
DESCRIPTION:参加者全員に初撃ちお年玉商品券を進呈します \n・日時：2023年1月28日（土）8:00-16:00(受付開始7時～)　※事前エントリー制 \n・場所：友部射撃場トラップ A面 \n・種目：トリプルトラップ、ダブル・トラップ、トラップ \nダブルトラップ(5m) ：40枚 \nトリプルトラップ：5mフロント・5mセンター・10mフロント　各30枚×3＝90枚 \nトラップ(10m) ：20枚 \n　　　　※競技内容・ルールは変更になる可能性があります \n・参加費：10\,000円(飲料・昼食付)\n \n150枚撃ち \n飲料・昼食の事前手配が必要なため、事前エントリーをお願いします。\n開催1か月前までのエントリーで早期エントリー特典(1\,000円分の商品券)付き \n  \n・　おかわり自由  (別途精算) \n・　射場貸銃あります(別途1日2\,000円) \nSKB 1900(自動) \nBenelli M2(自動) \nchiappa Triple-crown(三連)) \n・　装弾 \n持込装弾の利用可ですが、当日撃つ分と同じ数以上は当店でお買い求めをお願いします。\n國友銃砲火薬店発行の装弾引換券も使用可能です。\n（前日までに要予約）
URL:https://f-range.jp/event/20230128/
LOCATION:友部射撃場\, 笠間市平町1416-1\, 友部射撃場\, 茨城県\, 3091722\, 日本
CATEGORIES:練習会
ATTACH;FMTTYPE=image/jpeg:https://f-range.jp/wp-content/uploads/2021/07/tripletrap.jpg
ORGANIZER;CN="f-range":MAILTO:info@f-range.jp
END:VEVENT
BEGIN:VEVENT
DTSTART;TZID=Asia/Tokyo:20221217T080000
DTEND;TZID=Asia/Tokyo:20221217T170000
DTSTAMP:20260424T071523
CREATED:20211120T011108Z
LAST-MODIFIED:20221130T043612Z
UID:2212-1671264000-1671296400@f-range.jp
SUMMARY:ガチャっ子練習会(納会)＠友部射撃場2022/12/17
DESCRIPTION:・日時：2022年12月17日（土）8:00-16:00　※事前エントリー制 \n・場所：友部射撃場トラップ A面 \n・種目：トリプルトラップ、ダブル・トラップ、トラップ \nダブルトラップ(5m) ：40枚 \nトリプルトラップ：5mフロント・5mセンター・10mフロント　各30枚×3＝90枚 \nトラップ(10m) ：20枚 \n・参加費：8\,500円(飲料・昼食付)\n \n150枚撃ち \n飲料・昼食の事前手配が必要なため、要予約 \n\n・　おかわり自由  (別途精算) \n・　射場貸銃あります(別途1日2\,000円) \nSKB 1900(自動) \nBenelli M2(自動) \nchiappa Triple-crown(三連)) \n・　装弾 \n持込装弾の利用可ですが、当日撃つ分と同じ数以上は必ず当店でお買い求めをお願いします。\n國友銃砲火薬店発行の装弾引換券も使用可能です。\n（前日までに要予約）
URL:https://f-range.jp/event/20221217/
LOCATION:友部射撃場\, 笠間市平町1416-1\, 友部射撃場\, 茨城県\, 3091722\, 日本
CATEGORIES:練習会
ATTACH;FMTTYPE=image/jpeg:https://f-range.jp/wp-content/uploads/2021/07/tripletrap.jpg
ORGANIZER;CN="f-range":MAILTO:info@f-range.jp
END:VEVENT
BEGIN:VEVENT
DTSTART;TZID=Asia/Tokyo:20221211T080000
DTEND;TZID=Asia/Tokyo:20221211T170000
DTSTAMP:20260424T071523
CREATED:20211201T071732Z
LAST-MODIFIED:20221209T122426Z
UID:2328-1670745600-1670778000@f-range.jp
SUMMARY:ガチャっ子練習会＠鹿留射撃場 2022/12/11(日)
DESCRIPTION:  \n・日時：2022年12月11日（日）8:00-15:00　(受付7:30開始、8:00からゼロイン可能、練習会開始8:30) ※事前エントリー制 \n・場所：鹿留射撃場 トラップ・スキート共用射面 \n・種目：スラッグ風船・精密・ダブルトラップ・トラップ・シングルスキート \nダブルトラップ(5m) ：50枚 \nトラップ(7.5m) ：25枚 \nシングルスキート：25枚 \n・参加費：7\,500円(飲料・昼食付) \nスラッグ＋クレー100枚撃ち(最大150発)\n風船ラウンドは、制限時間内発射数無制限！全部割るまで撃ちまくりましょう♪\n精密ラウンドは、立射委託でスコープ10発・オープンサイト12発です。\n希望される方はスラッグの代わりにエアライフル・装薬ライフルでもOKです。 \n飲料・昼食の事前手配が必要なため、必ず事前エントリーをお願いします。 \n\n・　装弾\n持込装弾の利用可ですが、当日撃つ分と同じ数以上は必ず当店でお買い求めをお願いします。\n國友銃砲火薬店発行の装弾引換券も使用可能です。\n（前日までに要予約）
URL:https://f-range.jp/event/20221211/
LOCATION:鹿留射撃場\, 鹿留３１０１\, 都留市\, 山梨県\, 4020032\, 日本
CATEGORIES:練習会
ATTACH;FMTTYPE=image/jpeg:https://f-range.jp/wp-content/uploads/2021/07/tripletrap.jpg
ORGANIZER;CN="f-range":MAILTO:info@f-range.jp
END:VEVENT
BEGIN:VEVENT
DTSTART;TZID=Asia/Tokyo:20221120T080000
DTEND;TZID=Asia/Tokyo:20221120T170000
DTSTAMP:20260424T071523
CREATED:20211120T010917Z
LAST-MODIFIED:20220621T075818Z
UID:2210-1668931200-1668963600@f-range.jp
SUMMARY:ガチャっ子練習会＠友部射撃場2022/11/20
DESCRIPTION:・日時：2022年11月20日（日）8:00-16:00　※事前エントリー制 \n・場所：友部射撃場トラップ A面・スキート面 \n・種目：トリプルトラップ、ダブル・トラップ、トラップ、シングルスキート \nダブルトラップ(5m) ：40枚 \nトリプルトラップ：5mフロント・5mセンター　各30枚×2＝60枚 \nトラップ(10m) ：25枚　※最初の10枚はストレート \n　　　　  シングルスキート：25枚 \n・参加費：8\,500円(飲料・昼食付)\n \n150枚撃ち \n飲料・昼食の事前手配が必要なため、要予約 \n\n・　おかわり自由  (別途精算) \n・　射場貸銃あります(別途1日2\,000円) \nSKB 1900(自動) \nBenelli M2(自動) \nchiappa Triple-crown(三連)) \n・　装弾 \n持込装弾の利用可ですが、当日撃つ分と同じ数以上は必ず当店でお買い求めをお願いします。\n國友銃砲火薬店発行の装弾引換券も使用可能です。\n（前日までに要予約）
URL:https://f-range.jp/event/20221120/
LOCATION:茨城県
CATEGORIES:練習会
ATTACH;FMTTYPE=image/jpeg:https://f-range.jp/wp-content/uploads/2021/07/tripletrap.jpg
END:VEVENT
BEGIN:VEVENT
DTSTART;TZID=Asia/Tokyo:20221029T080000
DTEND;TZID=Asia/Tokyo:20221029T170000
DTSTAMP:20260424T071523
CREATED:20211120T010438Z
LAST-MODIFIED:20220621T075742Z
UID:2208-1667030400-1667062800@f-range.jp
SUMMARY:ガチャっ子練習会＠友部射撃場2022/10/29
DESCRIPTION:・日時：2022年10月29日（土）8:00-16:00　※事前エントリー制 \n・場所：友部射撃場トラップ A面 \n・種目：トリプルトラップ、ダブル・トラップ、トラップ \nダブルトラップ(5m) ：40枚 \nトリプルトラップ：5mフロント・5mセンター・10mフロント　各30枚×3＝90枚 \nトラップ(10m) ：20枚 \n・参加費：8\,500円(飲料・昼食付)\n \n150枚撃ち \n飲料・昼食の事前手配が必要なため、要予約 \n\n・　おかわり自由  (別途精算) \n・　射場貸銃あります(別途1日2\,000円) \nSKB 1900(自動) \nBenelli M2(自動) \nchiappa Triple-crown(三連)) \n・　装弾 \n持込装弾の利用可ですが、当日撃つ分と同じ数以上は必ず当店でお買い求めをお願いします。\n國友銃砲火薬店発行の装弾引換券も使用可能です。\n（前日までに要予約）
URL:https://f-range.jp/event/20221029/
LOCATION:茨城県
CATEGORIES:練習会
ATTACH;FMTTYPE=image/jpeg:https://f-range.jp/wp-content/uploads/2021/07/tripletrap.jpg
END:VEVENT
BEGIN:VEVENT
DTSTART;TZID=Asia/Tokyo:20221009T083000
DTEND;TZID=Asia/Tokyo:20221009T170000
DTSTAMP:20260424T071523
CREATED:20211201T071551Z
LAST-MODIFIED:20221008T061722Z
UID:2326-1665304200-1665334800@f-range.jp
SUMMARY:ガチャっ子練習会＠鹿留射撃場 2022/10/9(日)
DESCRIPTION:・日時：2022年10月 9日（日）8:30-15:00　(射撃開始9:00) ※事前エントリー制 \n・場所：鹿留射撃場 トラップ・スキート共用射面 \n・種目：スラッグ風船・精密・ダブルトラップ・トラップ・シングルスキート \nダブルトラップ(5m) ：50枚 \nトラップ(7.5m) ：25枚 \nシングルスキート：25枚 \n・参加費：7\,500円(飲料・昼食付) \nスラッグ＋クレー100枚撃ち\n風船ラウンドは、制限時間内発射数無制限！全部割るまで撃ちまくりましょう♪\n精密ラウンドは、スコープ10発・オープンサイト12発です。\n希望される方はスラッグの代わりにエアライフル・装薬ライフルでもOKです。 \n飲料・昼食の事前手配が必要なため、必ず事前エントリーをお願いします。 \n\n・　装弾\n持込装弾の利用可ですが、当日撃つ分と同じ数以上は必ず当店でお買い求めをお願いします。\n國友銃砲火薬店発行の装弾引換券も使用可能です。\n（前日までに要予約）
URL:https://f-range.jp/event/20221009/
LOCATION:茨城県
CATEGORIES:練習会
ATTACH;FMTTYPE=image/jpeg:https://f-range.jp/wp-content/uploads/2021/07/tripletrap.jpg
END:VEVENT
BEGIN:VEVENT
DTSTART;TZID=Asia/Tokyo:20220811T083000
DTEND;TZID=Asia/Tokyo:20220811T170000
DTSTAMP:20260424T071523
CREATED:20211201T071321Z
LAST-MODIFIED:20220722T101206Z
UID:2323-1660206600-1660237200@f-range.jp
SUMMARY:ガチャっ子練習会＠鹿留射撃場 2022/8/11(木・祝)
DESCRIPTION:・日時：2022年8月11日（木祝）8:30-15:00　(射撃開始9:00) ※事前エントリー制 \n・場所：鹿留射撃場 トラップ・スキート共用射面 \n・種目：スラッグ風船・精密・ダブルトラップ・トラップ・シングルスキート \nダブルトラップ(5m) ：50枚 \nトラップ(7.5m) ：25枚 \nシングルスキート：25枚 \n・参加費：7\,500円(飲料・昼食付) \nスラッグ＋クレー100枚撃ち\n風船ラウンドは、制限時間内発射数無制限！全部割るまで撃ちまくりましょう♪\n精密ラウンドは、スコープ10発・オープンサイト12発です。\n希望される方はスラッグの代わりにエアライフル・装薬ライフルでもOKです \n飲料・昼食の事前手配が必要なため、必ず事前エントリーをお願いします。 \n\n・　装弾\n持込装弾の利用可ですが、当日撃つ分と同じ数以上は必ず当店でお買い求めをお願いします。\n國友銃砲火薬店発行の装弾引換券も使用可能です。\n（前日までに要予約）
URL:https://f-range.jp/event/20220811/
LOCATION:茨城県
CATEGORIES:練習会
ATTACH;FMTTYPE=image/jpeg:https://f-range.jp/wp-content/uploads/2021/07/tripletrap.jpg
END:VEVENT
BEGIN:VEVENT
DTSTART;TZID=Asia/Tokyo:20220723T080000
DTEND;TZID=Asia/Tokyo:20220723T170000
DTSTAMP:20260424T071523
CREATED:20211120T005854Z
LAST-MODIFIED:20220710T110944Z
UID:2204-1658563200-1658595600@f-range.jp
SUMMARY:ガチャっ子練習会＠友部射撃場2022/7/23
DESCRIPTION:・日時：2022年 7月23日（土）8:00-16:00　※事前エントリー制 \n・場所：友部射撃場トラップ A面 \n・種目：トリプルトラップ、ダブル・トラップ、トラップ \nダブルトラップ(5m) ：40枚 \nトリプルトラップ：5mフロント・5mセンター・10mフロント　各30枚×3＝90枚 \nトラップ(10m) ：20枚 \n・参加費：8\,500円(飲料・昼食付)\n \n150枚撃ち \n飲料・昼食の事前手配が必要なため、要予約 \n\n・　おかわり自由  (別途精算) \n・　射場貸銃あります(別途1日2\,000円) \nSKB 1900(自動) \nBenelli M2(自動) \nchiappa Triple-crown(三連)) \n・　装弾 \n持込装弾の利用可ですが、当日撃つ分と同じ数以上は必ず当店でお買い求めをお願いします。\n國友銃砲火薬店発行の装弾引換券も使用可能です。\n（前日までに要予約）
URL:https://f-range.jp/event/20220723/
LOCATION:茨城県
CATEGORIES:練習会
ATTACH;FMTTYPE=image/jpeg:https://f-range.jp/wp-content/uploads/2022/06/F4A5034_720.jpg
END:VEVENT
BEGIN:VEVENT
DTSTART;TZID=Asia/Tokyo:20220703T080000
DTEND;TZID=Asia/Tokyo:20220703T170000
DTSTAMP:20260424T071523
CREATED:20211120T005726Z
LAST-MODIFIED:20220621T075351Z
UID:2202-1656835200-1656867600@f-range.jp
SUMMARY:ガチャっ子練習会＠友部射撃場2022/7/3
DESCRIPTION:・日時：2022年 7月3日（日）8:00-16:00　※事前エントリー制 \n・場所：友部射撃場トラップ A面・スキート面 \n・種目：トリプルトラップ、ダブル・トラップ、シングルスキート、トラップ \nトリプルトラップ：5mフロント 30枚、10m フロント 30枚 \nダブル・トラップ： 5m 40枚 \nトラップ： 10mストレート 10枚　＋　10mランダム 15枚 \nシングルスキート：25枚　　※追射OK \n・参加費：8\,500円(飲料・昼食付)\n \n150枚撃ち \n飲料・昼食の事前手配が必要なため、要予約 \n\n・　おかわり自由  (別途精算) \n・　射場貸銃あります(別途1日2\,000円) \nSKB 1900(自動) \nBenelli M2(自動) \nchiappa Triple-crown(三連)) \n・　おかわりの際に撃った分だけ実費精算でお願いします \n・　装弾 \n持込装弾の利用可ですが、当日撃つ分と同じ数以上は必ず当店でお買い求めをお願いします。\n國友銃砲火薬店発行の装弾引換券も使用可能です。\n（前日までに要予約） \n 
URL:https://f-range.jp/event/20220703/
LOCATION:茨城県
CATEGORIES:練習会
ATTACH;FMTTYPE=image/jpeg:https://f-range.jp/wp-content/uploads/2021/07/tripletrap.jpg
END:VEVENT
BEGIN:VEVENT
DTSTART;TZID=Asia/Tokyo:20220618T080000
DTEND;TZID=Asia/Tokyo:20220618T170000
DTSTAMP:20260424T071523
CREATED:20211120T004938Z
LAST-MODIFIED:20220602T091422Z
UID:2196-1655539200-1655571600@f-range.jp
SUMMARY:ガチャっ子練習会＠友部射撃場2022/6/18
DESCRIPTION:・日時：2022年 6月18日（土）8:00-16:00　※事前エントリー制 \n・場所：友部射撃場トラップ A面 \n・種目：トリプルトラップ、ダブル・トラップ、トラップ \nダブルトラップ(5m) ：40枚 \nトリプルトラップ：5mフロント・5mセンター・10mフロント　各30枚×3＝90枚 \nトラップ(10m) ：20枚 \n・参加費：8\,500円(飲料・昼食付)\n \n150枚撃ち \n飲料・昼食の事前手配が必要なため、要予約 \n\n・　おかわり自由  (別途精算) \n・　射場貸銃あります(別途1日2\,000円) \nSKB 1900(自動) \nBenelli M2(自動) \nchiappa Triple-crown(三連)) \n・　トラップ(15m)やスキートも撃てます \nトラップB面とスキート面で開催されている、信田銃砲さんの練習会に混ぜてもらう形になります。こちらも撃った分だけ実費精算です。 \n・　装弾 \n装弾は必ず当店でお買い求めをお願いします。\n（前日までに要予約） \n 
URL:https://f-range.jp/event/20220618/
LOCATION:茨城県
CATEGORIES:練習会
ATTACH;FMTTYPE=image/jpeg:https://f-range.jp/wp-content/uploads/2021/07/tripletrap.jpg
END:VEVENT
BEGIN:VEVENT
DTSTART;TZID=Asia/Tokyo:20220605T083000
DTEND;TZID=Asia/Tokyo:20220605T170000
DTSTAMP:20260424T071523
CREATED:20211201T070320Z
LAST-MODIFIED:20220602T091323Z
UID:2303-1654417800-1654448400@f-range.jp
SUMMARY:ガチャっ子練習会＠鹿留射撃場 2022/6/5(日)
DESCRIPTION:・日時：2022年6月5日（日）8:30-15:00　(射撃開始9:00) ※事前エントリー制 \n・場所：鹿留射撃場 トラップ・スキート共用射面 \n・種目：スラッグ速射x2種・ダブルトラップ・トラップ・シングルスキート \nダブルトラップ(5m) ：50枚 \nトラップ(7.5m) ：25枚 \nシングルスキート：25枚 \n・参加費：7\,500円(飲料・昼食付) \nスラッグ20発(オープンサイトは24発)＋クレー100枚撃ち(最大150発)\n希望される方はスラッグの代わりにエアライフル・装薬ライフルでもOKです \n飲料・昼食の事前手配が必要なため、要予約 \n\n・　装弾\n装弾は必ず当店でお買い求めをお願いします。\n（前日までに要予約）
URL:https://f-range.jp/event/20220605/
LOCATION:茨城県
CATEGORIES:練習会
ATTACH;FMTTYPE=image/jpeg:https://f-range.jp/wp-content/uploads/2021/07/tripletrap.jpg
END:VEVENT
BEGIN:VEVENT
DTSTART;TZID=Asia/Tokyo:20220521T080000
DTEND;TZID=Asia/Tokyo:20220521T170000
DTSTAMP:20260424T071523
CREATED:20211120T004530Z
LAST-MODIFIED:20220822T002750Z
UID:2194-1653120000-1653152400@f-range.jp
SUMMARY:ガチャっ子練習会＠友部射撃場2022/5/21
DESCRIPTION:・日時：2022年 5月21日（土）8:00-16:00　※事前エントリー制 \n・場所：友部射撃場トラップ A面 \n・種目：トリプルトラップ、ダブル・トラップ、トラップ \nダブルトラップ(5m) ：40枚 \nトリプルトラップ：5mフロント・5mセンター・10mフロント　各30枚×3＝90枚 \nトラップ(10m) ：20枚 \n・参加費：8\,500円(飲料・昼食付) \n150枚撃ち \n飲料・昼食の事前手配が必要なため、要予約 \n\n・　おかわり自由  (1枚46円で 実費精算) \n・　射場貸銃あります(別途1日2\,000円) \nSKB 1900(自動) \nBenelli M2(自動) \nchiappa Triple-crown(三連)) \n・　トラップ(15m)やスキートも撃てます \nトラップB面とスキート面で開催されている、信田銃砲さんの練習会に混ぜてもらう形になります。こちらも撃った分だけ実費精算です。 \n・　装弾 \n装弾は必ず当店でお買い求めをお願いします。\n（前日までに要予約）
URL:https://f-range.jp/event/20220521/
LOCATION:茨城県
CATEGORIES:練習会
ATTACH;FMTTYPE=image/jpeg:https://f-range.jp/wp-content/uploads/2021/07/tripletrap.jpg
END:VEVENT
BEGIN:VEVENT
DTSTART;TZID=Asia/Tokyo:20220503T080000
DTEND;TZID=Asia/Tokyo:20220503T160000
DTSTAMP:20260424T071523
CREATED:20211125T045001Z
LAST-MODIFIED:20211201T071856Z
UID:2228-1651564800-1651593600@f-range.jp
SUMMARY:ガチャっ子練習会＠友部射撃場 2021/5/3
DESCRIPTION:・日時：2022年5月3日（火祝）8:00-16:00　※事前エントリー制 \n受付時間 7:00〜　撃ちはじめ8:00〜 \n・場所：友部射撃場トラップＡ面・スキート面貸切 \n・種目：トリプルトラップ、ダブル・トラップ、シングルスキート、トラップ \nトリプルトラップ：5mフロント 30枚、10m フロント 30枚 \nダブル・トラップ： 5m 40枚 \nトラップ： 10mストレート 10枚　＋　10mランダム 15枚 \nシングルスキート：25枚　　※追射OK \n・参加費：8\,500円(飲料・昼食付) \n150枚撃ち \n\n※射場貸銃あります(別途1日2\,000円)※12番のみ\nSKB 1900(自動)・Benelli M2(自動)・chiappa Triple-crown(三連)) \n※装弾について \n\nスキートは9号以下、トラップ射面では7.5号の使用を厳守\n※スキートのみスキート射面で実施します\nグラム・グレイン数に制限は設けません（スペシャル盛々弾OK）\n全て二の矢まで撃った場合、Max200発（9号50発、7.5号150発必要です）\n試射や撃ち直し分で更に数発あれば確実に最後まで戦い抜けます！\n装弾は必ず当店でお買い求めをお願いします。\n（前日までに要予約）
URL:https://f-range.jp/event/20210503/
LOCATION:茨城県
CATEGORIES:練習会
ATTACH;FMTTYPE=image/jpeg:https://f-range.jp/wp-content/uploads/2021/07/tripletrap.jpg
END:VEVENT
BEGIN:VEVENT
DTSTART;TZID=Asia/Tokyo:20220319T080000
DTEND;TZID=Asia/Tokyo:20220319T170000
DTSTAMP:20260424T071523
CREATED:20211120T003210Z
LAST-MODIFIED:20211201T071913Z
UID:2190-1647676800-1647709200@f-range.jp
SUMMARY:ガチャっ子練習会＠友部射撃場2022/3/19
DESCRIPTION:・日時：2022年 3月19日（土）8:00-16:00　※事前エントリー制 \n・場所：友部射撃場トラップ A面 \n・種目：トリプルトラップ、ダブル・トラップ、トラップ \nダブルトラップ(5m) ：40枚 \nトリプルトラップ：5mフロント・5mセンター・10mフロント　各30枚×3＝90枚 \nトラップ(10m) ：20枚 \n・参加費：8\,500円(飲料・昼食付) \n150枚撃ち \n飲料・昼食の事前手配が必要なため、要予約 \n\n・　おかわり自由  (1枚46円で 実費精算) \n・　射場貸銃あります(別途1日2\,000円) \nSKB 1900(自動) \nBenelli M2(自動) \nchiappa Triple-crown(三連)) \n・　トラップ(15m)やスキートも撃てます \nトラップB面とスキート面で開催されている、信田銃砲さんの練習会に混ぜてもらう形になります。こちらも撃った分だけ実費精算です。 \n・　装弾 \n装弾は必ず当店でお買い求めをお願いします。\n（前日までに要予約）
URL:https://f-range.jp/event/20220319/
LOCATION:茨城県
CATEGORIES:練習会
ATTACH;FMTTYPE=image/jpeg:https://f-range.jp/wp-content/uploads/2021/07/tripletrap.jpg
END:VEVENT
BEGIN:VEVENT
DTSTART;TZID=Asia/Tokyo:20220312T083000
DTEND;TZID=Asia/Tokyo:20220312T160000
DTSTAMP:20260424T071523
CREATED:20211201T070616Z
LAST-MODIFIED:20211201T071908Z
UID:2301-1647073800-1647100800@f-range.jp
SUMMARY:ガチャっ子練習会＠鹿留射撃場 2022/3/12
DESCRIPTION:・日時：2022年3月12日（土）8:30-15:00　(射撃開始9:00) ※事前エントリー制 \n・場所：鹿留射撃場 トラップ・スキート共用射面 \n・種目：スラッグ速射x2種・ダブルトラップ・トラップ・シングルスキート \nダブルトラップ(5m) ：50枚 \nトラップ(7.5m) ：25枚 \nシングルスキート：25枚 \n・参加費：7\,500円(飲料・昼食付) \nスラッグ20発(オープンサイトは24発)＋クレー100枚撃ち\n希望される方はスラッグの代わりにエアライフル・装薬ライフルでもOKです \n飲料・昼食の事前手配が必要なため、必ず事前エントリーをお願いします。 \n\n・　装弾\n装弾は必ず当店でお買い求めをお願いします。\n（前日までに要予約）
URL:https://f-range.jp/event/20220312/
LOCATION:茨城県
CATEGORIES:練習会
ATTACH;FMTTYPE=image/jpeg:https://f-range.jp/wp-content/uploads/2021/07/tripletrap.jpg
END:VEVENT
BEGIN:VEVENT
DTSTART;TZID=Asia/Tokyo:20220226T080000
DTEND;TZID=Asia/Tokyo:20220226T170000
DTSTAMP:20260424T071523
CREATED:20211120T002940Z
LAST-MODIFIED:20211201T071919Z
UID:2188-1645862400-1645894800@f-range.jp
SUMMARY:ガチャっ子練習会＠友部射撃場2022/2/26
DESCRIPTION:・日時：2022年 2月26日（土）8:00-16:00　※事前エントリー制 \n・場所：友部射撃場トラップ A面 \n・種目：トリプルトラップ、ダブル・トラップ、トラップ \nダブルトラップ(5m) ：40枚 \nトリプルトラップ：5mフロント・5mセンター・10mフロント　各30枚×3＝90枚 \nトラップ(10m) ：20枚 \n・参加費：8\,500円(飲料・昼食付) \n150枚撃ち \n飲料・昼食の事前手配が必要なため、要予約 \n\n・　おかわり自由  (1枚46円で 実費精算) \n・　射場貸銃あります(別途1日2\,000円) \nSKB 1900(自動) \nBenelli M2(自動) \nchiappa Triple-crown(三連)) \n・　トラップ(15m)やスキートも撃てます \nトラップB面とスキート面で開催されている、信田銃砲さんの練習会に混ぜてもらう形になります。こちらも撃った分だけ実費精算です。 \n・　装弾 \n前日までにご連絡頂いた場合に限り、当日射場で装弾販売が出来ます。 \n必要な銘柄・数等、エントリーの際にご連絡ください。
URL:https://f-range.jp/event/20220226/
LOCATION:茨城県
CATEGORIES:練習会
ATTACH;FMTTYPE=image/jpeg:https://f-range.jp/wp-content/uploads/2021/07/tripletrap.jpg
END:VEVENT
BEGIN:VEVENT
DTSTART;TZID=Asia/Tokyo:20211030T080000
DTEND;TZID=Asia/Tokyo:20211030T160000
DTSTAMP:20260424T071523
CREATED:20210531T065114Z
LAST-MODIFIED:20211201T071934Z
UID:128-1635580800-1635609600@f-range.jp
SUMMARY:ガチャっ子練習会＠友部射撃場2021-10-30
DESCRIPTION:・日時：2021年10月30日（土）8:00-16:00　※予約優先 \n・場所：友部射撃場トラップ A面 \n・種目：トリプルトラップ、ダブル・トラップ、トラップ \nダブルトラップ(5m) ：40枚 \nトリプルトラップ：5mフロント・5mセンター・10mフロント　各30枚×3＝90枚 \nトラップ(10m) ：20枚 \n・参加費：7\,500円(飲料・昼食付) \n150枚撃ち \n飲料・昼食の事前手配が必要なため、要予約 \n\n・　おかわり自由  (1枚46円で 実費精算) \n・　射場貸銃あります(別途1日2\,000円) \nSKB 1900(自動) \nBenelli M2(自動) \nchiappa Triple-crown(三連)) \n・　トラップ(15m)やスキートも撃てます \nトラップB面とスキート面で開催されている、信田銃砲さんの練習会に混ぜてもらう形になります。こちらも撃った分だけ実費精算です。 \n・　装弾 \n前日までにご連絡頂いた場合に限り、当日射場で装弾販売が出来ます。 \n必要な銘柄・数等、エントリーの際にご連絡ください。
URL:https://f-range.jp/event/20211030/
LOCATION:友部射撃場\, 笠間市平町1416-1\, 友部射撃場\, 茨城県\, 3091722\, 日本
CATEGORIES:練習会
ATTACH;FMTTYPE=image/jpeg:https://f-range.jp/wp-content/uploads/2021/05/IMG_0324-scaled-e1622789257166.jpg
ORGANIZER;CN="f-range":MAILTO:info@f-range.jp
END:VEVENT
BEGIN:VEVENT
DTSTART;TZID=Asia/Tokyo:20211009T083000
DTEND;TZID=Asia/Tokyo:20211009T150000
DTSTAMP:20260424T071523
CREATED:20210829T055326Z
LAST-MODIFIED:20211201T072543Z
UID:1447-1633768200-1633791600@f-range.jp
SUMMARY:ガチャっ子練習会＠鹿留射撃場 2021/10/09
DESCRIPTION:・日時：2021年10月9日（土）8:30-15:00　(射撃開始9:00) ※完全エントリー制 \n・場所：鹿留射撃場 トラップ・スキート共用射面 \n・種目：スラッグ速射x2種・ダブルトラップ・トラップ・シングルスキート \nダブルトラップ(5m) ：50枚 \nトラップ(7.5m) ：25枚 \nシングルスキート：25枚 \n・参加費：7\,500円(飲料・昼食付) \nスラッグ20発＋クレー100枚撃ち \n飲料・昼食の事前手配が必要なため、要予約 \n\n・　装弾\n射場でスラッグ・散弾共に装弾購入可能ですが、20番は事前確認しておいた方が安全です。
URL:https://f-range.jp/event/20211009/
LOCATION:鹿留射撃場\, 鹿留３１０１\, 都留市\, 山梨県\, 4020032\, 日本
CATEGORIES:練習会
ATTACH;FMTTYPE=image/jpeg:https://f-range.jp/wp-content/uploads/2021/06/frange2021610cl2s.jpg
ORGANIZER;CN="f-range":MAILTO:info@f-range.jp
END:VEVENT
BEGIN:VEVENT
DTSTART;TZID=Asia/Tokyo:20210717T080000
DTEND;TZID=Asia/Tokyo:20210717T160000
DTSTAMP:20260424T071523
CREATED:20210531T063627Z
LAST-MODIFIED:20210712T232259Z
UID:124-1626508800-1626537600@f-range.jp
SUMMARY:ガチャっ子練習会＠友部射撃場2021-07-17
DESCRIPTION:・日時：2021年7月17日（土）7:00-16:00　(射撃開始7:30) ※予約優先 \n・場所：友部射撃場トラップ A面 \n・種目：トリプルトラップ、ダブル・トラップ \nダブルトラップ(5m) ：40枚 \nトリプルトラップ：5mフロント・5mセンター・10mフロント　各30枚×3＝90枚 \nトラップ(10m) ：20枚 \n・参加費：7\,500円(飲料・昼食付) \n150枚撃ち \n飲料・昼食の事前手配が必要なため、要予約 \n\n・　おかわり自由  (1枚46円で 実費精算) \n・　射場貸銃あります(別途1日2\,000円) \nSKB 1900(自動) \nBenelli M2(自動) \nchiappa Triple-crown(三連)) \n・　トラップ(15m)やスキートも撃てます \nトラップB面とスキート面で開催されている、信田銃砲さんの練習会に混ぜてもらう形になります。こちらも撃った分だけ実費精算です。 \n・　装弾 \n前日までにご連絡頂いた場合に限り、当日射場で装弾販売が出来ます。 \n必要な銘柄・数等、エントリーの際にご連絡ください。 \n  \n※申込が定員に達したため、受付を停止しております。 \n 
URL:https://f-range.jp/event/20210717/
LOCATION:友部射撃場\, 笠間市平町1416-1\, 友部射撃場\, 茨城県\, 3091722\, 日本
CATEGORIES:練習会
ATTACH;FMTTYPE=image/jpeg:https://f-range.jp/wp-content/uploads/2021/06/IMG_0215-scaled-e1622789087286.jpg
ORGANIZER;CN="f-range":MAILTO:info@f-range.jp
END:VEVENT
END:VCALENDAR