BEGIN:VCALENDAR
VERSION:2.0
PRODID:-//f-range 東京表参道の銃砲店 - ECPv6.15.14//NONSGML v1.0//EN
CALSCALE:GREGORIAN
METHOD:PUBLISH
X-ORIGINAL-URL:https://f-range.jp
X-WR-CALDESC:f-range 東京表参道の銃砲店 のイベント
REFRESH-INTERVAL;VALUE=DURATION:PT1H
X-Robots-Tag:noindex
X-PUBLISHED-TTL:PT1H
BEGIN:VTIMEZONE
TZID:Asia/Tokyo
BEGIN:STANDARD
TZOFFSETFROM:+0900
TZOFFSETTO:+0900
TZNAME:JST
DTSTART:20250101T000000
END:STANDARD
END:VTIMEZONE
BEGIN:VEVENT
DTSTART;TZID=Asia/Tokyo:20260613T180000
DTEND;TZID=Asia/Tokyo:20260613T220000
DTSTAMP:20260424T090847
CREATED:20251123T141518Z
LAST-MODIFIED:20260120T015916Z
UID:13118-1781373600-1781388000@f-range.jp
SUMMARY:f-range ５周年祭(飲み会)
DESCRIPTION:普段応援して下さる皆様のお陰を持ちまして、6月11日をもちまして開業5周年を迎えます。\n今年も周年祭を開催いたします。 \nこの日は参加者全員で楽しく飲食を共にしましょう。\nf-rangeのイベントに参加したことの無い方も大歓迎です。 \n・日時：2026年6月13日（土）18:00-22:00 (17:45受付開始)　※事前エントリー制。途中退席自由\n・場所：青山の鉄板焼居酒屋(詳細はエントリーされた方へご案内します)\n・種目：刺身・鉄板焼料理各種・焼きそば・ご飯もの・他\n・参加費：6\,000円 (飲み放題付)\n席に限りがあるため、事前エントリーをお願いします。 \n【参加ポイント付与】\n飲み会には参加ポイントが付きません。 \n【早期エントリー特典】\n飲み会には早期エントリーもありません。 \n・　おかわり自由(飲み物)\n・　貸銃ございません\n・　銃器・装弾の持込は固くお断りいたします\n・　初心者🔰枠も同じメニューでご用意しております \n【その他注意事項】\nf-rangeのイベントは【完全分煙】です。\n喫煙者と非喫煙者が気持ちよく楽しめる様、皆様のご協力をお願いいたします。\n基本的にはどなたでもご参加いただけるイベントですが、当店の判断により参加をご遠慮いただく場合もございますので、予めご了承ください。
URL:https://f-range.jp/event/20260613/
CATEGORIES:懇親会
ATTACH;FMTTYPE=image/jpeg:https://f-range.jp/wp-content/uploads/2024/12/IMG_4283sf.jpg
END:VEVENT
BEGIN:VEVENT
DTSTART;TZID=Asia/Tokyo:20261219T180000
DTEND;TZID=Asia/Tokyo:20261219T220000
DTSTAMP:20260424T090847
CREATED:20251123T141525Z
LAST-MODIFIED:20260120T020058Z
UID:13117-1797703200-1797717600@f-range.jp
SUMMARY:f-range 大忘年会 (飲み会)
DESCRIPTION:・日時：2026年12月19日（土）18:00-22:00 (17:45受付開始)　※事前エントリー制。途中退席自由\n・場所：青山の鉄板焼居酒屋(詳細はエントリーされた方へご案内します)\n・種目：刺身・鉄板焼料理各種・焼きそば・ご飯もの・他\n・参加費：6\,000円 (飲み放題付)\n席に限りがあるため、事前エントリーをお願いします。 \n【参加ポイント付与】\n飲み会には参加ポイントが付きません。 \n【早期エントリー特典】\n飲み会には早期エントリーもありません。 \n・　おかわり自由(飲み物)\n・　貸銃ございません\n・　銃器・装弾の持込は固くお断りいたします\n・　初心者🔰枠も同じメニューでご用意しております \n【その他注意事項】\nf-rangeのイベントは【完全分煙】です。\n喫煙者と非喫煙者が気持ちよく楽しめる様、皆様のご協力をお願いいたします。\n基本的にはどなたでもご参加いただけるイベントですが、当店の判断により参加をご遠慮いただく場合もございますので、予めご了承ください。
URL:https://f-range.jp/event/20261219/
CATEGORIES:懇親会
ATTACH;FMTTYPE=image/jpeg:https://f-range.jp/wp-content/uploads/2024/12/IMG_4283sf.jpg
END:VEVENT
END:VCALENDAR