BEGIN:VCALENDAR
VERSION:2.0
PRODID:-//f-range 東京表参道の銃砲店 - ECPv6.15.14//NONSGML v1.0//EN
CALSCALE:GREGORIAN
METHOD:PUBLISH
X-WR-CALNAME:f-range 東京表参道の銃砲店
X-ORIGINAL-URL:https://f-range.jp
X-WR-CALDESC:f-range 東京表参道の銃砲店 のイベント
REFRESH-INTERVAL;VALUE=DURATION:PT1H
X-Robots-Tag:noindex
X-PUBLISHED-TTL:PT1H
BEGIN:VTIMEZONE
TZID:Asia/Tokyo
BEGIN:STANDARD
TZOFFSETFROM:+0900
TZOFFSETTO:+0900
TZNAME:JST
DTSTART:20230101T000000
END:STANDARD
END:VTIMEZONE
BEGIN:VEVENT
DTSTART;TZID=Asia/Tokyo:20251220T180000
DTEND;TZID=Asia/Tokyo:20251220T220000
DTSTAMP:20260424T041646
CREATED:20241204T032513Z
LAST-MODIFIED:20251219T094351Z
UID:10625-1766253600-1766268000@f-range.jp
SUMMARY:f-range 大忘年会 (飲み会)
DESCRIPTION:・日時：2025年12月20日（土）18:00-22:00 (17:45受付開始)　※事前エントリー制\n・場所：青山の鉄板焼居酒屋(詳細はエントリーされた方へご案内します)\n・種目：刺身・鉄板焼料理各種・焼きそば・ご飯もの・他\n・参加費：6\,000円 (飲み放題付)\n席に限りがあるため、事前エントリーをお願いします。 \n【参加ポイント付与】\n飲み会には参加ポイントが付きません。 \n【早期エントリー特典】\n飲み会には早期エントリーもありません。 \n・　おかわり自由(飲み物)\n・　貸銃ございません\n・　銃器・装弾の持込は固くお断りいたします \n【その他注意事項】\nf-rangeのイベントは【完全分煙】です。\n喫煙者と非喫煙者が気持ちよく楽しめる様、皆様のご協力をお願いいたします。\n基本的にはどなたでもご参加いただけるイベントですが、当店の判断により参加をご遠慮いただく場合もございますので、予めご了承ください。
URL:https://f-range.jp/event/20251220/
LOCATION:f-range\, 神宮前3-11-13\, 渋谷区\, 東京都\, 1500001\, Japan
CATEGORIES:懇親会
ATTACH;FMTTYPE=image/jpeg:https://f-range.jp/wp-content/uploads/2024/12/IMG_4283sf.jpg
ORGANIZER;CN="f-range":MAILTO:info@f-range.jp
END:VEVENT
BEGIN:VEVENT
DTSTART;TZID=Asia/Tokyo:20250614T180000
DTEND;TZID=Asia/Tokyo:20250614T220000
DTSTAMP:20260424T041646
CREATED:20250520T145157Z
LAST-MODIFIED:20251127T001106Z
UID:11755-1749924000-1749938400@f-range.jp
SUMMARY:f-range ４周年祭(飲み会)
DESCRIPTION:普段応援して下さる皆様のお陰を持ちまして、6月11日をもちまして開業4周年を迎えます。\n今年も周年祭を開催いたします。 \nこの日は参加者全員で楽しく飲食を共にしましょう。\nf-rangeのイベントに参加したことの無い方も大歓迎です。 \n・日時：2025年6月14日（土）18:00-22:00 (17:45受付開始)　※事前エントリー制\n・場所：青山の鉄板焼居酒屋(詳細はエントリーされた方へご案内します)\n・種目：刺身・鉄板焼料理各種・焼きそば・ご飯もの・他\n・参加費：6\,000円 (飲み放題付)\n席に限りがあるため、事前エントリーをお願いします。 \n【参加ポイント付与】\n飲み会には参加ポイントが付きません。 \n【早期エントリー特典】\n飲み会には早期エントリーもありません。 \n・　おかわり自由(飲み物)\n・　貸銃ございません\n・　銃器・装弾の持込は固くお断りいたします \n【その他注意事項】\nf-rangeのイベントは【完全分煙】です。\n喫煙者と非喫煙者が気持ちよく楽しめる様、皆様のご協力をお願いいたします。\n基本的にはどなたでもご参加いただけるイベントですが、当店の判断により参加をご遠慮いただく場合もございますので、予めご了承ください。
URL:https://f-range.jp/event/20250614/
LOCATION:f-range\, 神宮前3-11-13\, 渋谷区\, 東京都\, 1500001\, Japan
CATEGORIES:懇親会
ATTACH;FMTTYPE=image/jpeg:https://f-range.jp/wp-content/uploads/2024/12/IMG_4283sf.jpg
ORGANIZER;CN="f-range":MAILTO:info@f-range.jp
END:VEVENT
BEGIN:VEVENT
DTSTART;TZID=Asia/Tokyo:20241221T180000
DTEND;TZID=Asia/Tokyo:20241221T220000
DTSTAMP:20260424T041646
CREATED:20241204T032254Z
LAST-MODIFIED:20241204T032844Z
UID:10621-1734804000-1734818400@f-range.jp
SUMMARY:f-range 大忘年会 (飲み会)
DESCRIPTION:・日時：2024年12月21日（土）18:00-22:00 (17:45受付開始)　※事前エントリー制\n・場所：青山の鉄板焼居酒屋(詳細はエントリーされた方へご案内します)\n・種目：刺身・鉄板焼料理各種・焼きそば・ご飯もの・他\n・参加費：6\,000円 (飲み放題付)\n席に限りがあるため、事前エントリーをお願いします。 \n【参加ポイント付与】\n飲み会には参加ポイントが付きません。 \n【早期エントリー特典】\n飲み会には早期エントリーもありません。 \n・　おかわり自由(飲み物)\n・　貸銃ございません\n・　銃器・装弾の持込は固くお断りいたします \n【その他注意事項】\nf-rangeのイベントは【完全分煙】です。\n喫煙者と非喫煙者が気持ちよく楽しめる様、皆様のご協力をお願いいたします。\n基本的にはどなたでもご参加いただけるイベントですが、当店の判断により参加をご遠慮いただく場合もございますので、予めご了承ください。
URL:https://f-range.jp/event/20241221/
LOCATION:f-range\, 神宮前3-11-13\, 渋谷区\, 東京都\, 1500001\, Japan
CATEGORIES:懇親会
ATTACH;FMTTYPE=image/jpeg:https://f-range.jp/wp-content/uploads/2024/12/IMG_4283sf.jpg
ORGANIZER;CN="f-range":MAILTO:info@f-range.jp
END:VEVENT
END:VCALENDAR